BEGIN:VCALENDAR
VERSION:2.0
PRODID:-//Schaper&#039;s Flood House - ECPv6.15.20//NONSGML v1.0//EN
CALSCALE:GREGORIAN
METHOD:PUBLISH
X-WR-CALNAME:Schaper&#039;s Flood House
X-ORIGINAL-URL:https://schapersfloodhouse.com
X-WR-CALDESC:Events for Schaper&#039;s Flood House
REFRESH-INTERVAL;VALUE=DURATION:PT1H
X-Robots-Tag:noindex
X-PUBLISHED-TTL:PT1H
BEGIN:VTIMEZONE
TZID:America/New_York
BEGIN:DAYLIGHT
TZOFFSETFROM:-0500
TZOFFSETTO:-0400
TZNAME:EDT
DTSTART:20250309T070000
END:DAYLIGHT
BEGIN:STANDARD
TZOFFSETFROM:-0400
TZOFFSETTO:-0500
TZNAME:EST
DTSTART:20251102T060000
END:STANDARD
BEGIN:DAYLIGHT
TZOFFSETFROM:-0500
TZOFFSETTO:-0400
TZNAME:EDT
DTSTART:20260308T070000
END:DAYLIGHT
BEGIN:STANDARD
TZOFFSETFROM:-0400
TZOFFSETTO:-0500
TZNAME:EST
DTSTART:20261101T060000
END:STANDARD
BEGIN:DAYLIGHT
TZOFFSETFROM:-0500
TZOFFSETTO:-0400
TZNAME:EDT
DTSTART:20270314T070000
END:DAYLIGHT
BEGIN:STANDARD
TZOFFSETFROM:-0400
TZOFFSETTO:-0500
TZNAME:EST
DTSTART:20271107T060000
END:STANDARD
END:VTIMEZONE
BEGIN:VEVENT
DTSTART;TZID=America/New_York:20260713T080000
DTEND;TZID=America/New_York:20260715T170000
DTSTAMP:20260420T113210
CREATED:20251103T183851Z
LAST-MODIFIED:20251121T164312Z
UID:10000481-1783929600-1784134800@schapersfloodhouse.com
SUMMARY:Water Damage Restoration Technician
DESCRIPTION:The IICRC Water Restoration Technician (WRT) 3-day course held from 8:00 am – 5:00 pm is the essential introduction to the science and practice of water damage restoration.  It is based on the IICRC S-500 Standard and Reference Guide for Professional Water Damage Restoration. \nThe course presents all of the basic concepts of water damage\, its effects and techniques for drying materials and structures and will provide the background to understand the procedures necessary when dealing with water losses\, sewer backflows and contamination such as mold. \nKey topics: \n\n\nThe aspects of communication with customers and insurance companies;\n\n\nHealth and Safety;\n\n\nUnderstanding various materials and their drying characteristics;\n\n\nDescription and use of ventilation equipment\, dehumidifiers\, air purifiers;\n\n\nExtraction equipment\, importance and performance;\n\n\nEquipment set-up;\n\n\nThe science of drying and the decision making process;\n\n\nThe basics of microbiology.\n\n\n* To receive your WRT certification you must pass the final exam with 75% or higher. \n* This course qualifies for 14 continuing education credits (CEC) with the IICRC. \nCourse Details \n\n2 day course; 14 hours\, not including exam time\, lunch and breaks\nExam fee: $80.00 payable to the IICRC here – https://my.iicrc.org/eweb\nInstructor: Richard Driscoll
URL:https://schapersfloodhouse.com/class/water-damage-restoration-technician-17/
LOCATION:Schaper’s Flood House\, 1550 Calcon Hook Rd\, Sharon Hill\, PA\, 19079\, United States
CATEGORIES:Water Damage Restoration Technician
ORGANIZER;CN="Schaper's Supply":MAILTO:dan@schaperssupply.com
GEO:39.89205;-75.26543
X-APPLE-STRUCTURED-LOCATION;VALUE=URI;X-ADDRESS=Schaper’s Flood House 1550 Calcon Hook Rd Sharon Hill PA 19079 United States;X-APPLE-RADIUS=500;X-TITLE=1550 Calcon Hook Rd:geo:-75.26543,39.89205
END:VEVENT
BEGIN:VEVENT
DTSTART;TZID=America/New_York:20260716T080000
DTEND;TZID=America/New_York:20260717T170000
DTSTAMP:20260420T113210
CREATED:20211117T162616Z
LAST-MODIFIED:20260319T172657Z
UID:10000416-1784188800-1784307600@schapersfloodhouse.com
SUMMARY:Trauma and Crime Scene Technician
DESCRIPTION:The Trauma and Crime Scene Technician (TCST) certification covers the unique situations encountered when performing trauma and crime scene cleanup\, regardless of surface\, item\, or location. The certification demonstrates knowledge of the various procedures and precautions taken when performing work at a trauma/crime scene and is based on the ANSI/IICRC S540 Standard for Trauma and Crime Scene Cleanup. Upon achieving the certification\, you demonstrate you know about inspecting and investigating human blood and other potentially infectious material (OPIM) contamination to establish hazard assessments\, work plans\, and procedures for cleaning and safely transporting contaminated material. \nCourse Details \n\n2 day course; 14 hours\, not including exam time\, lunch and breaks\nQualifies for 14 IICRC CEC’s\nExam fee: $80.00 payable to the IICRC here – https://my.iicrc.org/eweb\nInstructor: Dick Driscoll\n\n 
URL:https://schapersfloodhouse.com/class/trauma-and-crime-scene-technician-iicrc-via-zoom/
LOCATION:Schaper’s Flood House\, 1550 Calcon Hook Rd\, Sharon Hill\, PA\, 19079\, United States
CATEGORIES:IICRC Training,Trauma Scene Cleanup
ATTACH;FMTTYPE=image/png:https://schapersfloodhouse.com/wp-content/uploads/RSA_White.png
ORGANIZER;CN="Schaper's Supply":MAILTO:dan@schaperssupply.com
GEO:39.89205;-75.26543
X-APPLE-STRUCTURED-LOCATION;VALUE=URI;X-ADDRESS=Schaper’s Flood House 1550 Calcon Hook Rd Sharon Hill PA 19079 United States;X-APPLE-RADIUS=500;X-TITLE=1550 Calcon Hook Rd:geo:-75.26543,39.89205
END:VEVENT
END:VCALENDAR