BEGIN:VCALENDAR
VERSION:2.0
PRODID:-//Schaper&#039;s Flood House - ECPv6.15.20//NONSGML v1.0//EN
CALSCALE:GREGORIAN
METHOD:PUBLISH
X-WR-CALNAME:Schaper&#039;s Flood House
X-ORIGINAL-URL:https://schapersfloodhouse.com
X-WR-CALDESC:Events for Schaper&#039;s Flood House
REFRESH-INTERVAL;VALUE=DURATION:PT1H
X-Robots-Tag:noindex
X-PUBLISHED-TTL:PT1H
BEGIN:VTIMEZONE
TZID:America/New_York
BEGIN:DAYLIGHT
TZOFFSETFROM:-0500
TZOFFSETTO:-0400
TZNAME:EDT
DTSTART:20200308T070000
END:DAYLIGHT
BEGIN:STANDARD
TZOFFSETFROM:-0400
TZOFFSETTO:-0500
TZNAME:EST
DTSTART:20201101T060000
END:STANDARD
BEGIN:DAYLIGHT
TZOFFSETFROM:-0500
TZOFFSETTO:-0400
TZNAME:EDT
DTSTART:20210314T070000
END:DAYLIGHT
BEGIN:STANDARD
TZOFFSETFROM:-0400
TZOFFSETTO:-0500
TZNAME:EST
DTSTART:20211107T060000
END:STANDARD
BEGIN:DAYLIGHT
TZOFFSETFROM:-0500
TZOFFSETTO:-0400
TZNAME:EDT
DTSTART:20220313T070000
END:DAYLIGHT
BEGIN:STANDARD
TZOFFSETFROM:-0400
TZOFFSETTO:-0500
TZNAME:EST
DTSTART:20221106T060000
END:STANDARD
END:VTIMEZONE
BEGIN:VEVENT
DTSTART;TZID=America/New_York:20210308T080000
DTEND;TZID=America/New_York:20210312T170000
DTSTAMP:20260420T011806
CREATED:20201217T193132Z
LAST-MODIFIED:20201217T193132Z
UID:10000399-1615190400-1615568400@schapersfloodhouse.com
SUMMARY:Water Damage Restoration Technician and Applied Structural Drying Technician
DESCRIPTION:This combo training combines WRT and ASD which means you will take two (2) IICRC certification examinations.You will qualify to take the WRT certification exam on day 4 and the ASD certification exam is on day 5. \n————————-\nThe Water Damage Restoration Technician course is designed to teach restoration personnel that perform remediation work to give them a better concept of water damage\, it’s effects and techniques for drying of structures. This course will give residential and commercial maintenance personnel the background to understand the procedures necessary to deal with water losses\, sewer back flows\, and contamination such as mold. \n————————- \nThe Applied Structural Drying course distinguishes restorers who have completed an intensive hands-on course in how to dry complete structures. The students actually “apply” new drying techniques as they learn them.  If you like hands on learning this class is for you. In this class you will receive both hands on and classroom lecture using all the latest in drying technology. \n\nLearn how to:\n\nextract properly using surface\, sub surface\, and weighted extraction tools\ndry in place\, partial float and other applications\ndirected heat application\nproper equipment placement\nuse meters to give you the information you need\ndry hardwood flooring\ndry ceramic tile\ndry cabinetry with no need for removal\ndry drywall and insulation without need for demolition\nuse structural cavity drying systems\nDesiccant and LGR use\nmuch more\n\nIf you are ready to take your business to the next level or just need an update on new technology this class is for you.\nCourse Details \n\n5 day course; 31 hours\, not including exam time\, lunch and breaks\nExam fee: $130.00 payable to the IICRC and collected by the instructor prior to the exam\nInstructor: Scott Mims
URL:https://schapersfloodhouse.com/class/water-damage-restoration-technician-and-applied-structural-drying-technician-13/
LOCATION:Schaper’s Flood House\, 1550 Calcon Hook Rd\, Sharon Hill\, PA\, 19079\, United States
CATEGORIES:IICRC Training,WRT/ASD Combo
ATTACH;FMTTYPE=image/png:https://schapersfloodhouse.com/wp-content/uploads/iicrc_logo.png
ORGANIZER;CN="Schaper's Supply":MAILTO:dan@schaperssupply.com
GEO:39.89205;-75.26543
X-APPLE-STRUCTURED-LOCATION;VALUE=URI;X-ADDRESS=Schaper’s Flood House 1550 Calcon Hook Rd Sharon Hill PA 19079 United States;X-APPLE-RADIUS=500;X-TITLE=1550 Calcon Hook Rd:geo:-75.26543,39.89205
END:VEVENT
END:VCALENDAR