BEGIN:VCALENDAR
VERSION:2.0
PRODID:-//Schaper&#039;s Flood House - ECPv6.15.20//NONSGML v1.0//EN
CALSCALE:GREGORIAN
METHOD:PUBLISH
X-ORIGINAL-URL:https://schapersfloodhouse.com
X-WR-CALDESC:Events for Schaper&#039;s Flood House
REFRESH-INTERVAL;VALUE=DURATION:PT1H
X-Robots-Tag:noindex
X-PUBLISHED-TTL:PT1H
BEGIN:VTIMEZONE
TZID:America/New_York
BEGIN:DAYLIGHT
TZOFFSETFROM:-0500
TZOFFSETTO:-0400
TZNAME:EDT
DTSTART:20250309T070000
END:DAYLIGHT
BEGIN:STANDARD
TZOFFSETFROM:-0400
TZOFFSETTO:-0500
TZNAME:EST
DTSTART:20251102T060000
END:STANDARD
BEGIN:DAYLIGHT
TZOFFSETFROM:-0500
TZOFFSETTO:-0400
TZNAME:EDT
DTSTART:20260308T070000
END:DAYLIGHT
BEGIN:STANDARD
TZOFFSETFROM:-0400
TZOFFSETTO:-0500
TZNAME:EST
DTSTART:20261101T060000
END:STANDARD
BEGIN:DAYLIGHT
TZOFFSETFROM:-0500
TZOFFSETTO:-0400
TZNAME:EDT
DTSTART:20270314T070000
END:DAYLIGHT
BEGIN:STANDARD
TZOFFSETFROM:-0400
TZOFFSETTO:-0500
TZNAME:EST
DTSTART:20271107T060000
END:STANDARD
END:VTIMEZONE
BEGIN:VEVENT
DTSTART;TZID=America/New_York:20260505T080000
DTEND;TZID=America/New_York:20260508T170000
DTSTAMP:20260420T030723
CREATED:20251103T181001Z
LAST-MODIFIED:20251103T183627Z
UID:10000478-1777968000-1778259600@schapersfloodhouse.com
SUMMARY:Applied Microbial Remediation Technician
DESCRIPTION:Prerequisite–The IICRC Water Restoration Tech Training must be completed prior to attending the AMRT training. \nOverview \nIICRC Certified & Approved Applied Microbial Remediation Technician course covers mold and sewage remediation techniques to individuals engaged in property management\, property restoration\, IEQ investigations or other related professions. Emphasis will be placed on teaching mold and sewage remediation techniques to individuals who will perform these procedures in the field. Course graduates will be adequately equipped to perform remediation services\, while protecting the health and safety of workers and occupants. \nKey Topics \n\nIntroduction to Mold and HVAC\n Standards and Guidelines\n Microbial Effects and Safety\n On-Site Assessment\n Detection Equipment and Sampling\n Containment Planning and Strategies\n Remediation Equipment\n Cleaning Protocols\n Decontamination and Cleaning\n Special Circumstances\n Respiratory Protection\n Job Safety Analysis\n Hands on Demonstration\n\nSpecial Points of Instruction \nIn the Applied Microbial Remediation Technician Course you will learn about the principles\, methods\, procedures and tools for structural and content remediation. The course addresses guidelines and industry standards\, containment types and set-ups\, pressure differentials\, demolition and cleaning procedures\, microbiology\, personal protection equipment and sampling methods. It provides the training to conduct remediation projects includes a hands-on section and concludes with the exam to receive IICRC™ certificate. \nCourse Details \n\n4 day course; 28 hours\, not including exam time\, lunch and breaks\nExam fee: $150.00 payable to the IICRC here – https://my.iicrc.org/eweb\nInstructor: Richard Driscoll
URL:https://schapersfloodhouse.com/class/applied-microbial-remediation-technician-25/
LOCATION:Schaper’s Flood House\, 1550 Calcon Hook Rd\, Sharon Hill\, PA\, 19079\, United States
CATEGORIES:Applied Microbial Remediation Technician
ATTACH;FMTTYPE=image/png:https://schapersfloodhouse.com/wp-content/uploads/RSA_White.png
ORGANIZER;CN="Schaper's Supply":MAILTO:dan@schaperssupply.com
GEO:39.89205;-75.26543
X-APPLE-STRUCTURED-LOCATION;VALUE=URI;X-ADDRESS=Schaper’s Flood House 1550 Calcon Hook Rd Sharon Hill PA 19079 United States;X-APPLE-RADIUS=500;X-TITLE=1550 Calcon Hook Rd:geo:-75.26543,39.89205
END:VEVENT
BEGIN:VEVENT
DTSTART;TZID=America/New_York:20260511T080000
DTEND;TZID=America/New_York:20260515T170000
DTSTAMP:20260420T030723
CREATED:20251121T165506Z
LAST-MODIFIED:20260122T215345Z
UID:10000493-1778486400-1778864400@schapersfloodhouse.com
SUMMARY:Water Damage Restoration Technician and Applied Structural Drying Technician
DESCRIPTION:This combo training combines WRT and ASD which means you will take two (2) IICRC certification examinations. You will qualify to take the WRT certification exam on day 4 and the ASD certification exam is on day 5. \n————————-\nThe Water Damage Restoration Technician course is designed to teach restoration personnel that perform remediation work to give them a better concept of water damage\, it’s effects and techniques for drying of structures. This course will give residential and commercial maintenance personnel the background to understand the procedures necessary to deal with water losses\, sewer back flows\, and contamination such as mold. \n————————- \nThe Applied Structural Drying course distinguishes restorers who have completed an intensive hands-on course in how to dry complete structures. The students actually “apply” new drying techniques as they learn them.  If you like hands on learning this class is for you. In this class you will receive both hands on and classroom lecture using all the latest in drying technology. \n\nLearn how to:\n\nextract properly using surface\, sub surface\, and weighted extraction tools\ndry in place\, partial float and other applications\ndirected heat application\nproper equipment placement\nuse meters to give you the information you need\ndry hardwood flooring\ndry ceramic tile\ndry cabinetry with no need for removal\ndry drywall and insulation without need for demolition\nuse structural cavity drying systems\nDesiccant and LGR use\n\n\nCourse Details \n\n5 day course; 31 hours\, not including exam time\, lunch and breaks\nExam fee: $160.00 payable to the IICRC here – https://my.iicrc.org/eweb\nInstructor: David Oakes
URL:https://schapersfloodhouse.com/class/water-damage-restoration-technician-and-applied-structural-drying-technician-47/
LOCATION:Schaper’s Flood House\, 1550 Calcon Hook Rd\, Sharon Hill\, PA\, 19079\, United States
CATEGORIES:WRT/ASD Combo
ATTACH;FMTTYPE=image/png:https://schapersfloodhouse.com/wp-content/uploads/iicrc_logo.png
ORGANIZER;CN="Schaper's Supply":MAILTO:dan@schaperssupply.com
GEO:39.89205;-75.26543
X-APPLE-STRUCTURED-LOCATION;VALUE=URI;X-ADDRESS=Schaper’s Flood House 1550 Calcon Hook Rd Sharon Hill PA 19079 United States;X-APPLE-RADIUS=500;X-TITLE=1550 Calcon Hook Rd:geo:-75.26543,39.89205
END:VEVENT
END:VCALENDAR