BEGIN:VCALENDAR
VERSION:2.0
PRODID:-//Schaper&#039;s Flood House - ECPv6.15.20//NONSGML v1.0//EN
CALSCALE:GREGORIAN
METHOD:PUBLISH
X-ORIGINAL-URL:https://schapersfloodhouse.com
X-WR-CALDESC:Events for Schaper&#039;s Flood House
REFRESH-INTERVAL;VALUE=DURATION:PT1H
X-Robots-Tag:noindex
X-PUBLISHED-TTL:PT1H
BEGIN:VTIMEZONE
TZID:America/New_York
BEGIN:DAYLIGHT
TZOFFSETFROM:-0500
TZOFFSETTO:-0400
TZNAME:EDT
DTSTART:20230312T070000
END:DAYLIGHT
BEGIN:STANDARD
TZOFFSETFROM:-0400
TZOFFSETTO:-0500
TZNAME:EST
DTSTART:20231105T060000
END:STANDARD
BEGIN:DAYLIGHT
TZOFFSETFROM:-0500
TZOFFSETTO:-0400
TZNAME:EDT
DTSTART:20240310T070000
END:DAYLIGHT
BEGIN:STANDARD
TZOFFSETFROM:-0400
TZOFFSETTO:-0500
TZNAME:EST
DTSTART:20241103T060000
END:STANDARD
BEGIN:DAYLIGHT
TZOFFSETFROM:-0500
TZOFFSETTO:-0400
TZNAME:EDT
DTSTART:20250309T070000
END:DAYLIGHT
BEGIN:STANDARD
TZOFFSETFROM:-0400
TZOFFSETTO:-0500
TZNAME:EST
DTSTART:20251102T060000
END:STANDARD
END:VTIMEZONE
BEGIN:VEVENT
DTSTART;TZID=America/New_York:20240910T080000
DTEND;TZID=America/New_York:20240911T170000
DTSTAMP:20260421T215515
CREATED:20231026T163711Z
LAST-MODIFIED:20240909T120106Z
UID:10000450-1725955200-1726074000@schapersfloodhouse.com
SUMMARY:Fire and Smoke Restoration Technician (LIVESTREAM)
DESCRIPTION:Fire and Smoke Restoration Technician\nOverview \nIICRC Certified & Approved Fire and Smoke Restoration Technician course is held over two days. The Fire and Smoke Restoration Technician course covers smoke odor removal\, structure cleaning\, surface preparation and finishing\, and contents cleaning\, including wood furniture\, documents\, books\, and electronics.\nCertification: IICRC Fire and Smoke Restoration Technician.\nIICRC Exam available at additional charge – Qualifies for 2 IICRC CEC’s \nKey Topics \nTopics to be covered include the study of job planning and execution\, chemical and equipment requirements\, structural cleaning\, contents cleaning\, as well as determining the job scope and estimating. The manual contains a section of forms to be used on the job. \nHave you avoided getting involved in fire restoration because it seems too complicated? Well it’s not\, as long as you understand the principles and proper techniques of fire restoration and odor control taught in this two-day seminar. \nFollowing a fire\, the customers “heightened awareness” can make the restorer’s job very difficult. Your best defense against this are: close inspection\, careful documentation and professional image. You will learn how different substances burning influence the difficulty of the clean up. \nSpecial Points of Instruction \nThe Fire and Smoke Restoration Technician course concentrates on technical procedure for successfully completing the restoration of a fire and smoke damaged environment. Students will learn how to combine technical procedures with a practical approach to managing the job site and how that relates to pricing the job.\nGetting the customers back into their restored home makes you the hero. They will not forget what you did for them and will certainly remember you when it is time for the next carpet cleaning. \nCourse Details \n\n2 day course; 14 hours\, not including exam time\, lunch and breaks\nExam fee: $80.00 payable to the IICRC here – https://my.iicrc.org/eweb\nInstructor: Scott Mims\n\nSave money by combining with our Odor Control Technician class – FSRT/OCT COMBO 091024 \nNOTE: This class will be held on Eastern Standard Time \nTo participate in our live-streamed classes\, please take note of the following important information and requirements: \n\nYou must have a computer with video and audio capabilities.\nYou must have access to a strong\, stable internet connection.*\nYou must fill out the IICRC Candidate Agreement form and pay for your exam\, $80.00\, as soon as possible\, but in any event no later than 4 days prior to the class.\nWhen paying your exam fees\, you will be asked to upload a piece of photo ID for face recognition during the exam.\nWe ask that you log into the class at least 30 minutes prior to the start time to ensure your technology is working and to be present for attendance and policy review.\n\n*Schaper’s Supply is not responsible for ensuring your internet connectivity or for any problems accessing a live-streamed class due to connectivity problems.  No refunds will be issued for any reason including connectivity problems. You can test your system capabilities in advance by visiting zoom.us/test. \nReview and confirmation of the above requirements (including all system requirements) is the responsibility of the student registering for the online course.   \nAll registrations for online classes are final.  Payment must be made at the time of registration and no refunds will be issued for online classes once a registration is completed.
URL:https://schapersfloodhouse.com/class/24542/
LOCATION:Online Learning\, United States
CATEGORIES:Fire and Smoke Restoration Technician
ATTACH;FMTTYPE=image/png:https://schapersfloodhouse.com/wp-content/uploads/iicrc_logo.png
ORGANIZER;CN="Schaper's Supply":MAILTO:dan@schaperssupply.com
GEO:37.09024;-95.712891
END:VEVENT
BEGIN:VEVENT
DTSTART;TZID=America/New_York:20240917T080000
DTEND;TZID=America/New_York:20240920T170000
DTSTAMP:20260421T215515
CREATED:20231024T145538Z
LAST-MODIFIED:20240430T152600Z
UID:10000435-1726560000-1726851600@schapersfloodhouse.com
SUMMARY:Applied Microbial Remediation Technician
DESCRIPTION:Prerequisite–The IICRC Water Restoration Tech Training must be completed prior to attending the AMRT training. \nOverview \nIICRC Certified & Approved Applied Microbial Remediation Technician course covers mold and sewage remediation techniques to individuals engaged in property management\, property restoration\, IEQ investigations or other related professions. Emphasis will be placed on teaching mold and sewage remediation techniques to individuals who will perform these procedures in the field. Course graduates will be adequately equipped to perform remediation services\, while protecting the health and safety of workers and occupants. \nKey Topics \n\nIntroduction to Mold and HVAC\n Standards and Guidelines\n Microbial Effects and Safety\n On-Site Assessment\n Detection Equipment and Sampling\n Containment Planning and Strategies\n Remediation Equipment\n Cleaning Protocols\n Decontamination and Cleaning\n Special Circumstances\n Respiratory Protection\n Job Safety Analysis\n Hands on Demonstration\n\nSpecial Points of Instruction \nIn the Applied Microbial Remediation Technician Course you will learn about the principles\, methods\, procedures and tools for structural and content remediation. The course addresses guidelines and industry standards\, containment types and set-ups\, pressure differentials\, demolition and cleaning procedures\, microbiology\, personal protection equipment and sampling methods. It provides the training to conduct remediation projects includes a hands-on section and concludes with the exam to receive IICRC™ certificate. \nCourse Details \n\n4 day course; 28 hours\, not including exam time\, lunch and breaks\nExam fee: $150.00 payable to the IICRC here – https://my.iicrc.org/eweb\nInstructor: Richard Driscoll
URL:https://schapersfloodhouse.com/class/applied-microbial-remediation-technician-20/
LOCATION:Schaper’s Flood House\, 1550 Calcon Hook Rd\, Sharon Hill\, PA\, 19079\, United States
CATEGORIES:Applied Microbial Remediation Technician
ATTACH;FMTTYPE=image/png:https://schapersfloodhouse.com/wp-content/uploads/iicrc_logo.png
ORGANIZER;CN="Schaper's Supply":MAILTO:dan@schaperssupply.com
GEO:39.89205;-75.26543
X-APPLE-STRUCTURED-LOCATION;VALUE=URI;X-ADDRESS=Schaper’s Flood House 1550 Calcon Hook Rd Sharon Hill PA 19079 United States;X-APPLE-RADIUS=500;X-TITLE=1550 Calcon Hook Rd:geo:-75.26543,39.89205
END:VEVENT
END:VCALENDAR