BEGIN:VCALENDAR
VERSION:2.0
PRODID:-//Schaper&#039;s Flood House - ECPv6.15.20//NONSGML v1.0//EN
CALSCALE:GREGORIAN
METHOD:PUBLISH
X-WR-CALNAME:Schaper&#039;s Flood House
X-ORIGINAL-URL:https://schapersfloodhouse.com
X-WR-CALDESC:Events for Schaper&#039;s Flood House
REFRESH-INTERVAL;VALUE=DURATION:PT1H
X-Robots-Tag:noindex
X-PUBLISHED-TTL:PT1H
BEGIN:VTIMEZONE
TZID:America/New_York
BEGIN:DAYLIGHT
TZOFFSETFROM:-0500
TZOFFSETTO:-0400
TZNAME:EDT
DTSTART:20200308T070000
END:DAYLIGHT
BEGIN:STANDARD
TZOFFSETFROM:-0400
TZOFFSETTO:-0500
TZNAME:EST
DTSTART:20201101T060000
END:STANDARD
BEGIN:DAYLIGHT
TZOFFSETFROM:-0500
TZOFFSETTO:-0400
TZNAME:EDT
DTSTART:20210314T070000
END:DAYLIGHT
BEGIN:STANDARD
TZOFFSETFROM:-0400
TZOFFSETTO:-0500
TZNAME:EST
DTSTART:20211107T060000
END:STANDARD
BEGIN:DAYLIGHT
TZOFFSETFROM:-0500
TZOFFSETTO:-0400
TZNAME:EDT
DTSTART:20220313T070000
END:DAYLIGHT
BEGIN:STANDARD
TZOFFSETFROM:-0400
TZOFFSETTO:-0500
TZNAME:EST
DTSTART:20221106T060000
END:STANDARD
END:VTIMEZONE
BEGIN:VEVENT
DTSTART;TZID=America/New_York:20211012T080000
DTEND;TZID=America/New_York:20211014T170000
DTSTAMP:20260420T092307
CREATED:20201221T213408Z
LAST-MODIFIED:20211008T193123Z
UID:10000412-1634025600-1634230800@schapersfloodhouse.com
SUMMARY:Applied Structural Drying
DESCRIPTION:(Prerequisite: IICRC Water Restoration Technician Certification) \nThe Applied Structural Drying course covers the effective\, efficient and timely drying of water-damaged structures and contents\, using comprehensive classroom and hands-on training\, in order to facilitate appropriate decision-making within a restorative drying environment. Students will experience live hands on use of instruments\, extraction systems\, drying equipment\, and chemistry use in an actual flooded building situation. \nWRT is required as a prerequisite to take ASD exam. \nCourse Details \n\n3 day course; 21 hours\, not including exam time\, lunch and breaks\nExam fee: $65.00 payable to the IICRC and collected by the instructor prior to the exam.\nInstructor: Scott Mims
URL:https://schapersfloodhouse.com/class/applied-structural-drying-24/
LOCATION:Schaper’s Flood House\, 1550 Calcon Hook Rd\, Sharon Hill\, PA\, 19079\, United States
CATEGORIES:Applied Structural Drying,IICRC Training
ATTACH;FMTTYPE=image/png:https://schapersfloodhouse.com/wp-content/uploads/iicrc_logo.png
ORGANIZER;CN="Schaper's Supply":MAILTO:dan@schaperssupply.com
GEO:39.89205;-75.26543
X-APPLE-STRUCTURED-LOCATION;VALUE=URI;X-ADDRESS=Schaper’s Flood House 1550 Calcon Hook Rd Sharon Hill PA 19079 United States;X-APPLE-RADIUS=500;X-TITLE=1550 Calcon Hook Rd:geo:-75.26543,39.89205
END:VEVENT
BEGIN:VEVENT
DTSTART;TZID=America/New_York:20211020T080000
DTEND;TZID=America/New_York:20211021T170000
DTSTAMP:20260420T092307
CREATED:20201222T170703Z
LAST-MODIFIED:20201222T170703Z
UID:10000413-1634716800-1634835600@schapersfloodhouse.com
SUMMARY:Fire and Smoke Restoration Technician- Online
DESCRIPTION:Overview \nIICRC Certified & Approved Fire and Smoke Restoration Technician course is held over two days. The Fire and Smoke Restoration Technician course covers smoke odor removal\, structure cleaning\, surface preparation and finishing\, and contents cleaning\, including wood furniture\, documents\, books\, and electronics.\nCertification: IICRC Fire and Smoke Restoration Technician.\nIICRC Exam available at additional charge – Qualifies for 14 continuing education credits (CEC) with the IICRC \nKey Topics \nTopics to be covered include the study of job planning and execution\, chemical and equipment requirements\, structural cleaning\, contents cleaning\, as well as determining the job scope and estimating. The manual contains a section of forms to be used on the job. \nFollowing a fire\, the customers “heightened awareness” can make the restorer’s job very difficult. Your best defense against this are: close inspection\, careful documentation and professional image. You will learn how different substances burning influence the difficulty of the clean up. \nSpecial Points of Instruction \nThe Fire and Smoke Restoration Technician course concentrates on technical procedure for successfully completing the restoration of a fire and smoke damaged environment. Students will learn how to combine technical procedures with a practical approach to managing the job site and how that relates to pricing the job. \nGetting the customers back into their restored home makes you the hero. They will not forget what you did for them and will certainly remember you when it is time for the next carpet cleaning. \nNOTE: This class will be held on Eastern Standard Time \nTo participate in our live-streamed classes\, please take note of the following important information and requirements: \n\nYou must have a computer with video and audio capabilities.\nYou must have access to a strong\, stable internet connection.*\nYou must fill out the IICRC Candidate Agreement form and pay for your exam as soon as possible\, but in any event no later than 4 days prior to the class.\nWhen paying your exam fees\, you will be asked to upload a piece of photo ID for face recognition during the exam.\nWe ask that you log into the class at least 30 minutes prior to the start time to ensure your technology is working and to be present for attendance and policy review.\n\n*Schaper’s Supply is not responsible for ensuring your internet connectivity or for any problems accessing a live-streamed class due to connectivity problems.  No refunds will be issued for any reason including connectivity problems. You can test your system capabilities in advance by visiting zoom.us/test. \nReview and confirmation of the above requirements (including all system requirements) is the responsibility of the student registering for the online course.   \nAll registrations for online classes are final.  Payment must be made at the time of registration and no refunds will be issued for online classes once a registration is completed.
URL:https://schapersfloodhouse.com/class/fire-and-smoke-restoration-technician-online-2/
LOCATION:Online Learning\, United States
CATEGORIES:Fire and Smoke Restoration Technician,IICRC Training
ATTACH;FMTTYPE=image/png:https://schapersfloodhouse.com/wp-content/uploads/iicrc_logo.png
ORGANIZER;CN="Schaper's Supply":MAILTO:dan@schaperssupply.com
GEO:37.09024;-95.712891
END:VEVENT
BEGIN:VEVENT
DTSTART;VALUE=DATE:20211022
DTEND;VALUE=DATE:20211023
DTSTAMP:20260420T092307
CREATED:20210803T170544Z
LAST-MODIFIED:20210809T142454Z
UID:10000336-1634860800-1634947199@schapersfloodhouse.com
SUMMARY:Odor Control Technician- Online
DESCRIPTION:The Odor Control Technician course covers olfaction and odor\, odor sources\, detection process\, theory of odor control\, equipment\, chemical options and applications. The student will learn how to address odors caused from biological sources such as decomposition\, urine contamination\, and mold\, combustion sources such as fire and smoke damage\, and chemical sources such as fuel oil spills or volatile organic chemicals. \nEvery home\, every building and every vehicle provides the opportunity for odor remediation services. Odors caused from smoke\, water\, pet problems\, cigarette smoke\, cooking\, skunk\, dead animal and bacteria can all be remediated. Millions of dollars in property is replaced every year due to odor problems.  \nThis one-day course will teach you how to salvage and restore much of this discarded material. You will be given techniques that will allow you to help your customer without causing them any embarrassment. You will learn the principles of deodorization\, the chemicals\, equipment and procedures used to permanently remove odors. \nFor time and money invested\, this class will provide a superb return on investment.  \nNOTE: This class will be held on Eastern Standard Time \nTo participate in our live-streamed classes\, please take note of the following important information and requirements: \n\nYou must have a computer with video and audio capabilities.\nYou must have access to a strong\, stable internet connection.*\nYou must fill out the IICRC Candidate Agreement form and pay for your exam as soon as possible\, but in any event no later than 4 days prior to the class.\nWhen paying your exam fees\, you will be asked to upload a piece of photo ID for face recognition during the exam.\nWe ask that you log into the class at least 30 minutes prior to the start time to ensure your technology is working and to be present for attendance and policy review.\n\n*Schaper’s Supply is not responsible for ensuring your internet connectivity or for any problems accessing a live-streamed class due to connectivity problems.  No refunds will be issued for any reason including connectivity problems. You can test your system capabilities in advance by visiting zoom.us/test. \nReview and confirmation of the above requirements (including all system requirements) is the responsibility of the student registering for the online course.   \nAll registrations for online classes are final.  Payment must be made at the time of registration and no refunds will be issued for online classes once a registration is completed.
URL:https://schapersfloodhouse.com/class/odor-controltechnician-online/
LOCATION:Online Learning\, United States
CATEGORIES:IICRC Training,Odor Control Technician
ATTACH;FMTTYPE=image/png:https://schapersfloodhouse.com/wp-content/uploads/iicrc_logo.png
ORGANIZER;CN="Schaper's Supply":MAILTO:dan@schaperssupply.com
GEO:37.09024;-95.712891
END:VEVENT
END:VCALENDAR