BEGIN:VCALENDAR
VERSION:2.0
PRODID:-//Schaper&#039;s Flood House - ECPv6.15.20//NONSGML v1.0//EN
CALSCALE:GREGORIAN
METHOD:PUBLISH
X-ORIGINAL-URL:https://schapersfloodhouse.com
X-WR-CALDESC:Events for Schaper&#039;s Flood House
REFRESH-INTERVAL;VALUE=DURATION:PT1H
X-Robots-Tag:noindex
X-PUBLISHED-TTL:PT1H
BEGIN:VTIMEZONE
TZID:America/New_York
BEGIN:DAYLIGHT
TZOFFSETFROM:-0500
TZOFFSETTO:-0400
TZNAME:EDT
DTSTART:20200308T070000
END:DAYLIGHT
BEGIN:STANDARD
TZOFFSETFROM:-0400
TZOFFSETTO:-0500
TZNAME:EST
DTSTART:20201101T060000
END:STANDARD
BEGIN:DAYLIGHT
TZOFFSETFROM:-0500
TZOFFSETTO:-0400
TZNAME:EDT
DTSTART:20210314T070000
END:DAYLIGHT
BEGIN:STANDARD
TZOFFSETFROM:-0400
TZOFFSETTO:-0500
TZNAME:EST
DTSTART:20211107T060000
END:STANDARD
BEGIN:DAYLIGHT
TZOFFSETFROM:-0500
TZOFFSETTO:-0400
TZNAME:EDT
DTSTART:20220313T070000
END:DAYLIGHT
BEGIN:STANDARD
TZOFFSETFROM:-0400
TZOFFSETTO:-0500
TZNAME:EST
DTSTART:20221106T060000
END:STANDARD
END:VTIMEZONE
BEGIN:VEVENT
DTSTART;TZID=America/New_York:20210405T090000
DTEND;TZID=America/New_York:20210406T170000
DTSTAMP:20260420T011927
CREATED:20201221T202439Z
LAST-MODIFIED:20210216T202117Z
UID:10000403-1617613200-1617728400@schapersfloodhouse.com
SUMMARY:Carpet Cleaning Technician Online
DESCRIPTION:The IICRC-approved Carpet Cleaning Technician (CCT) course is designed to teach the art and science of carpet cleaning to professional service providers\, as well as others in related industries.  Emphasis is placed on practical application\, identifying fiber\, yarn and carpet constructions\, style types and finishes\, soiling conditions\, cleaning science and methodology\, and other issues and concerns faced by individuals who maintain and clean installed broadloom carpet.  When coupled with additional on-the-job training and field experience\, students should be adequately prepared to perform carpet cleaning techniques and procedures. They also should be adequately prepared to accomplish further training in other IICRC-approved courses\, which require CCT as a prerequisite.  The course is designed to cover pre-inspection\, fabric identification\, basic cleaning chemicals and equipment\, and proper cleaning techniques and procedures with a residential and light commercial emphasis. \nCourse Details \n2 day course; 9:00 am EST – 5:00 pm EST \nInstructor: John Carter \nNOTE: This class will be held on Eastern Standard Time \nTo participate in our live-streamed classes\, please take note of the following important information and requirements: \n\nYou must have a computer with video and audio capabilities.\nYou must have access to a strong\, stable internet connection.*\nYou must fill out the IICRC Candidate Agreement form and pay for your exam as soon as possible\, but in any event no later than 4 days prior to the class.\nWhen paying your exam fees\, you will be asked to upload a piece of photo ID for face recognition during the exam.\nWe ask that you log into the class at least 30 minutes prior to the start time to ensure your technology is working and to be present for attendance and policy review.\n\n*Schaper’s Supply is not responsible for ensuring your internet connectivity or for any problems accessing a live-streamed class due to connectivity problems.  No refunds will be issued for any reason including connectivity problems. You can test your system capabilities in advance by visiting zoom.us/test. \nReview and confirmation of the above requirements (including all system requirements) is the responsibility of the student registering for the online course.   \nAll registrations for online classes are final.  Payment must be made at the time of registration and no refunds will be issued for online classes once a registration is completed.
URL:https://schapersfloodhouse.com/class/carpet-cleaning-technician-online/
LOCATION:Online Learning\, United States
CATEGORIES:Carpet Cleaning Technician,IICRC Training
ATTACH;FMTTYPE=image/png:https://schapersfloodhouse.com/wp-content/uploads/iicrc_logo.png
ORGANIZER;CN="Schaper's Supply":MAILTO:dan@schaperssupply.com
GEO:37.09024;-95.712891
END:VEVENT
BEGIN:VEVENT
DTSTART;TZID=America/New_York:20210407T090000
DTEND;TZID=America/New_York:20210408T170000
DTSTAMP:20260420T011927
CREATED:20201221T202058Z
LAST-MODIFIED:20210216T211840Z
UID:10000402-1617786000-1617901200@schapersfloodhouse.com
SUMMARY:Upholstery and Fabric Cleaning Technician - Online
DESCRIPTION:+ You must obtain this certification to earn your Master Textile Cleaner designation. \n+ You must obtain this certification to earn your Master Water Restorer designation. \nThe IICRC approved Upholstery & Fabric Cleaning Technician (UFT) course is designed to teach the art and science of upholstery and fabric cleaning to professional service providers\, as well as others in related industries.  \nThe class curriculum includes the following: \n\nHow to properly identify fibers\nFabric construction\nProper cleaning chemistry\nMethods of cleaning\nRemoving difficult spots and stains from fabrics\nIdentification of potential problem areas\nHow to avoid browning and color bleeding\nHow to make simple repairs on loose legs\, fabric tears\, and loose buttons\n\nThe class also includes a section on how to clean and restore certain types of leather fabric. \n This is very important since 33% of all upholstery sold for commercial and residential use is made with a leather fabric. \nCourse Details \n2 day course; 9:00 am EST – 5:00 pm EST \nInstructor: John Carter \nNOTE: This class will be held on Eastern Standard Time \nTo participate in our live-streamed classes\, please take note of the following important information and requirements: \n\nYou must have a computer with video and audio capabilities.\nYou must have access to a strong\, stable internet connection.*\nYou must fill out the IICRC Candidate Agreement form and pay for your exam as soon as possible\, but in any event no later than 4 days prior to the class.\nWhen paying your exam fees\, you will be asked to upload a piece of photo ID for face recognition during the exam.\nWe ask that you log into the class at least 30 minutes prior to the start time to ensure your technology is working and to be present for attendance and policy review.\n\n*Schaper’s Supply is not responsible for ensuring your internet connectivity or for any problems accessing a live-streamed class due to connectivity problems.  No refunds will be issued for any reason including connectivity problems. You can test your system capabilities in advance by visiting zoom.us/test. \nReview and confirmation of the above requirements (including all system requirements) is the responsibility of the student registering for the online course.   \nAll registrations for online classes are final.  Payment must be made at the time of registration and no refunds will be issued for online classes once a registration is completed. \n 
URL:https://schapersfloodhouse.com/class/upholstery-and-fabric-cleaning-technician-online/
LOCATION:Online Learning\, United States
CATEGORIES:IICRC Training,Upholstery & Fabric Cleaning Technician,Upholstery and Fabric Cleaning Technician
ATTACH;FMTTYPE=image/png:https://schapersfloodhouse.com/wp-content/uploads/iicrc_logo.png
ORGANIZER;CN="Schaper's Supply":MAILTO:dan@schaperssupply.com
GEO:37.09024;-95.712891
END:VEVENT
BEGIN:VEVENT
DTSTART;TZID=America/New_York:20210413T080000
DTEND;TZID=America/New_York:20210416T170000
DTSTAMP:20260420T011927
CREATED:20201217T204837Z
LAST-MODIFIED:20201217T204837Z
UID:10000400-1618300800-1618592400@schapersfloodhouse.com
SUMMARY:Applied Microbial Remediation Technician
DESCRIPTION:Prerequisite–The IICRC Water Restoration Tech Training must be completed prior to attending the AMRT training. \n**PLEASE BRING YOUR FULL FACE RESPIRATORS TO TRAINING FOR THIS CLASS \n** IF ATTENDEES BRING RESPIRATORS (OR PURCHASE AT TRAINING CLASS) AND THEIR MEDICAL EVALUATIONS\, THE INSTRUCTOR WILL PERFORM A PROPER FIT TESTING AND WILL PROVIDE THE REQUIRED LAMINATED CERTIFICATION CARD. OSHA REQUIRES A YEARLY FIT TESTING AND MEDICAL EVALUATION IS REQUIRED YEARLY. \nOverview \nIICRC Certified & Approved Applied Microbial Remediation Technician course covers mold and sewage remediation techniques to individuals engaged in property management\, property restoration\, IEQ investigations or other related professions. Emphasis will be placed on teaching mold and sewage remediation techniques to individuals who will perform these procedures in the field. Course graduates will be adequately equipped to perform remediation services\, while protecting the health and safety of workers and occupants. \nKey Topics \n\n Introduction to Mold and HVAC\n Standards and Guidelines\n Microbial Effects and Safety\n On-Site Assessment\n Detection Equipment and Sampling\n Containment Planning and Strategies\n Remediation Equipment\n Cleaning Protocols\n Decontamination and Cleaning\n Special Circumstances\n Respiratory Protection\n Job Safety Analysis\n Hands on Demonstration\n\nSpecial Points of Instruction \nIn the Applied Microbial Remediation Technician Course you will learn about the principles\, methods\, procedures and tools for structural and content remediation. The course addresses guidelines and industry standards\, containment types and set-ups\, pressure differentials\, demolition and cleaning procedures\, microbiology\, personal protection equipment and sampling methods. It provides the training to conduct remediation projects includes a hands-on section and concludes with the exam to receive IICRC™ certificate. \nCourse Details \n\n4 day course; 28 hours\, not including exam time\, lunch and breaks\nExam fee: $150.00 payable to the IICRC and collected by instructor prior to exam\nInstructor: Richard Driscoll
URL:https://schapersfloodhouse.com/class/applied-microbial-remediation-technician-12/
LOCATION:Schaper’s Flood House\, 1550 Calcon Hook Rd\, Sharon Hill\, PA\, 19079\, United States
CATEGORIES:Applied Microbial Remediation Technician,IICRC Training
ATTACH;FMTTYPE=image/png:https://schapersfloodhouse.com/wp-content/uploads/iicrc_logo.png
ORGANIZER;CN="Schaper's Supply":MAILTO:dan@schaperssupply.com
GEO:39.89205;-75.26543
X-APPLE-STRUCTURED-LOCATION;VALUE=URI;X-ADDRESS=Schaper’s Flood House 1550 Calcon Hook Rd Sharon Hill PA 19079 United States;X-APPLE-RADIUS=500;X-TITLE=1550 Calcon Hook Rd:geo:-75.26543,39.89205
END:VEVENT
BEGIN:VEVENT
DTSTART;TZID=America/New_York:20210420T080000
DTEND;TZID=America/New_York:20210423T170000
DTSTAMP:20260420T011927
CREATED:20201217T210035Z
LAST-MODIFIED:20201217T210035Z
UID:10000401-1618905600-1619197200@schapersfloodhouse.com
SUMMARY:Commercial Drying Specialist Online
DESCRIPTION:(Prerequisite:  IICRC Certification in WRT) \nThis course is a 4-day course that provides training in the proper set-up\, equipment and project management of commercial losses.  Commercial drying projects frequently have many more potential hazards and safety risks that are not generally encountered on residential projects. These hazards may include but not be limited to higher voltages\, confined spaces\, energized machinery\, hazardous chemicals\, heavy equipment and forklifts. The CDS course is not intended to be a health and safety course\, nor will it cover all of the potential hazards or OSHA compliance issues that may be encountered on commercial projects. It is required of participants to comply with all applicable local\, state/provincial and national safety rules and regulations. The participant is strongly advised to research and complete appropriate training programs (e.g. HST\, OSHA 10-hour\, Canadian HST) prior to participating in the CDS course. \nThe Commercial Drying Specialist course teaches proper inspection and preliminary determinations\, work flow and project management\, process administration and technical methods of effective and timely drying of commercial\, industrial\, institutional and complex residential water-damaged structures\, systems and contents.  The understanding of commercial projects is very different and more complex than that of typical residential structures.  The students will experience the set-up of large loss projects including equipment such as desiccants as well as managing the power constraints through the use of generators and power splitters.  This course is MUST for individuals involved in large-loss and CAT work! \nNOTE: This class will be held on Eastern Standard Time \nTo participate in our live-streamed classes\, please take note of the following important information and requirements: \n\nYou must have a computer with video and audio capabilities.\nYou must have access to a strong\, stable internet connection.*\nYou must fill out the IICRC Candidate Agreement form and pay for your exam as soon as possible\, but in any event no later than 4 days prior to the class.\nWhen paying your exam fees\, you will be asked to upload a piece of photo ID for face recognition during the exam.\nWe ask that you log into the class at least 30 minutes prior to the start time to ensure your technology is working and to be present for attendance and policy review.\n\n*Schaper’s Supply is not responsible for ensuring your internet connectivity or for any problems accessing a live-streamed class due to connectivity problems.  No refunds will be issued for any reason including connectivity problems. You can test your system capabilities in advance by visiting zoom.us/test. \nReview and confirmation of the above requirements (including all system requirements) is the responsibility of the student registering for the online course.   \nAll registrations for online classes are final.  Payment must be made at the time of registration and no refunds will be issued for online classes once a registration is completed.
URL:https://schapersfloodhouse.com/class/commercial-drying-specialist-online/
LOCATION:Online Learning\, United States
CATEGORIES:Commercial Drying Specialist,IICRC Training
ATTACH;FMTTYPE=image/png:https://schapersfloodhouse.com/wp-content/uploads/iicrc_logo.png
ORGANIZER;CN="Schaper's Supply":MAILTO:dan@schaperssupply.com
GEO:37.09024;-95.712891
END:VEVENT
BEGIN:VEVENT
DTSTART;TZID=America/New_York:20210420T080000
DTEND;TZID=America/New_York:20210423T170000
DTSTAMP:20260420T011927
CREATED:20251121T170237Z
LAST-MODIFIED:20251121T170237Z
UID:10000495-1618905600-1619197200@schapersfloodhouse.com
SUMMARY:Commercial Drying Specialist Online
DESCRIPTION:(Prerequisite:  IICRC Certification in WRT) \nThis course is a 4-day course that provides training in the proper set-up\, equipment and project management of commercial losses.  Commercial drying projects frequently have many more potential hazards and safety risks that are not generally encountered on residential projects. These hazards may include but not be limited to higher voltages\, confined spaces\, energized machinery\, hazardous chemicals\, heavy equipment and forklifts. The CDS course is not intended to be a health and safety course\, nor will it cover all of the potential hazards or OSHA compliance issues that may be encountered on commercial projects. It is required of participants to comply with all applicable local\, state/provincial and national safety rules and regulations. The participant is strongly advised to research and complete appropriate training programs (e.g. HST\, OSHA 10-hour\, Canadian HST) prior to participating in the CDS course. \nThe Commercial Drying Specialist course teaches proper inspection and preliminary determinations\, work flow and project management\, process administration and technical methods of effective and timely drying of commercial\, industrial\, institutional and complex residential water-damaged structures\, systems and contents.  The understanding of commercial projects is very different and more complex than that of typical residential structures.  The students will experience the set-up of large loss projects including equipment such as desiccants as well as managing the power constraints through the use of generators and power splitters.  This course is MUST for individuals involved in large-loss and CAT work! \nCourse Details \n\n4 day course; 28 hours\, not including exam time\, lunch and breaks\nExam fee: $80.00 payable to the IICRC here – https://my.iicrc.org/eweb\nInstructor: Scott Mims\n\n  \nNOTE: This class will be held on Eastern Standard Time \nTo participate in our live-streamed classes\, please take note of the following important information and requirements: \n\nYou must have a computer with video and audio capabilities.\nYou must have access to a strong\, stable internet connection.*\nYou must fill out the IICRC Candidate Agreement form and pay for your exam as soon as possible\, but in any event no later than 4 days prior to the class.\nWhen paying your exam fees\, you will be asked to upload a piece of photo ID for face recognition during the exam.\nWe ask that you log into the class at least 30 minutes prior to the start time to ensure your technology is working and to be present for attendance and policy review.\n\n*Schaper’s Supply is not responsible for ensuring your internet connectivity or for any problems accessing a live-streamed class due to connectivity problems.  No refunds will be issued for any reason including connectivity problems. You can test your system capabilities in advance by visiting zoom.us/test. \nReview and confirmation of the above requirements (including all system requirements) is the responsibility of the student registering for the online course.   \nAll registrations for online classes are final.  Payment must be made at the time of registration and no refunds will be issued for online classes once a registration is completed.
URL:https://schapersfloodhouse.com/class/commercial-drying-specialist-online-2/
LOCATION:Online Learning\, United States
CATEGORIES:Commercial Drying Specialist,IICRC Training
ATTACH;FMTTYPE=image/png:https://schapersfloodhouse.com/wp-content/uploads/iicrc_logo.png
ORGANIZER;CN="Schaper's Supply":MAILTO:dan@schaperssupply.com
GEO:37.09024;-95.712891
END:VEVENT
BEGIN:VEVENT
DTSTART;TZID=America/New_York:20210428T090000
DTEND;TZID=America/New_York:20210429T170000
DTSTAMP:20260420T011927
CREATED:20201221T203226Z
LAST-MODIFIED:20210216T205441Z
UID:10000404-1619600400-1619715600@schapersfloodhouse.com
SUMMARY:Color Repair Technician - Online
DESCRIPTION:Prerequisites: IICRC Certification in CCT or CCMT  \nOverview \nIICRC Certified & Approved The Color Repair Technician course addresses the history of color\, color theory\, natural and synthetic dyes\, dye methods\, types of dyes\, types of fibers\, carpet styles and dye procedures. Other topics covered include color related cleaning issues such as fading\, color loss due to contamination or bleaching\, and the use of cleaning agents that may affect or remove color from carpet. (2 day course; 14 hours\, not including exam time\, lunch and breaks. Seating is limited)\nEARN UP TO $500 AN HOUR! \nKey Topics \n\nCarpet Construction\nTypes of Dyes\nPrinciples of Color\nSpot Dye Principles\nSpot Dye Procedures\nRoom Dye Procedures\n\nSpecial Points of Instruction \nColor Repair Techniques- \n\nAnalysis of Color Loss\nShading and Feathering\nBasic Dye Application\nBleach/Chemical Neutralization\nDye Application with Airbrush\nColor Fade Restoration\nRoom Dye Procedures\n\nNOTE: This class will be held on Eastern Standard Time \nTo participate in our live-streamed classes\, please take note of the following important information and requirements: \n\nYou must have a computer with video and audio capabilities.\nYou must have access to a strong\, stable internet connection.*\nYou must fill out the IICRC Candidate Agreement form and pay for your exam as soon as possible\, but in any event no later than 4 days prior to the class.\nWhen paying your exam fees\, you will be asked to upload a piece of photo ID for face recognition during the exam.\nWe ask that you log into the class at least 30 minutes prior to the start time to ensure your technology is working and to be present for attendance and policy review.\n\n*Schaper’s Supply is not responsible for ensuring your internet connectivity or for any problems accessing a live-streamed class due to connectivity problems.  No refunds will be issued for any reason including connectivity problems. You can test your system capabilities in advance by visiting zoom.us/test. \nReview and confirmation of the above requirements (including all system requirements) is the responsibility of the student registering for the online course.   \nAll registrations for online classes are final.  Payment must be made at the time of registration and no refunds will be issued for online classes once a registration is completed.
URL:https://schapersfloodhouse.com/class/color-repair-technician-online/
LOCATION:Online Learning\, United States
CATEGORIES:Color Repair Technician,IICRC Training
ATTACH;FMTTYPE=image/png:https://schapersfloodhouse.com/wp-content/uploads/iicrc_logo.png
ORGANIZER;CN="Schaper's Supply":MAILTO:dan@schaperssupply.com
GEO:37.09024;-95.712891
END:VEVENT
BEGIN:VEVENT
DTSTART;TZID=America/New_York:20210430T090000
DTEND;TZID=America/New_York:20210430T170000
DTSTAMP:20260420T011927
CREATED:20201221T203847Z
LAST-MODIFIED:20210216T205537Z
UID:10000405-1619773200-1619802000@schapersfloodhouse.com
SUMMARY:Odor Control Technician- Online
DESCRIPTION:The Odor Control Technician course covers olfaction and odor\, odor sources\, detection process\, theory of odor control\, equipment\, chemical options and applications. The student will learn how to address odors caused from biological sources such as decomposition\, urine contamination\, and mold\, combustion sources such as fire and smoke damage\, and chemical sources such as fuel oil spills or volatile organic chemicals. \nEvery home\, every building and every vehicle provides the opportunity for odor remediation services. Odors caused from smoke\, water\, pet problems\, cigarette smoke\, cooking\, skunk\, dead animal and bacteria can all be remediated. Millions of dollars in property is replaced every year due to odor problems.  \nThis one-day course will teach you how to salvage and restore much of this discarded material. You will be given techniques that will allow you to help your customer without causing them any embarrassment. You will learn the principles of deodorization\, the chemicals\, equipment and procedures used to permanently remove odors. \nFor time and money invested\, this class will provide a superb return on investment.  \nNOTE: This class will be held on Eastern Standard Time \nTo participate in our live-streamed classes\, please take note of the following important information and requirements: \n\nYou must have a computer with video and audio capabilities.\nYou must have access to a strong\, stable internet connection.*\nYou must fill out the IICRC Candidate Agreement form and pay for your exam as soon as possible\, but in any event no later than 4 days prior to the class.\nWhen paying your exam fees\, you will be asked to upload a piece of photo ID for face recognition during the exam.\nWe ask that you log into the class at least 30 minutes prior to the start time to ensure your technology is working and to be present for attendance and policy review.\n\n*Schaper’s Supply is not responsible for ensuring your internet connectivity or for any problems accessing a live-streamed class due to connectivity problems.  No refunds will be issued for any reason including connectivity problems. You can test your system capabilities in advance by visiting zoom.us/test. \nReview and confirmation of the above requirements (including all system requirements) is the responsibility of the student registering for the online course.   \nAll registrations for online classes are final.  Payment must be made at the time of registration and no refunds will be issued for online classes once a registration is completed.
URL:https://schapersfloodhouse.com/class/odor-control-technician-online/
LOCATION:Online Learning\, United States
CATEGORIES:IICRC Training,Odor Control Technician
ATTACH;FMTTYPE=image/png:https://schapersfloodhouse.com/wp-content/uploads/iicrc_logo.png
ORGANIZER;CN="Schaper's Supply":MAILTO:dan@schaperssupply.com
GEO:37.09024;-95.712891
END:VEVENT
END:VCALENDAR