BEGIN:VCALENDAR
VERSION:2.0
PRODID:-//Schaper&#039;s Flood House - ECPv6.15.20//NONSGML v1.0//EN
CALSCALE:GREGORIAN
METHOD:PUBLISH
X-ORIGINAL-URL:https://schapersfloodhouse.com
X-WR-CALDESC:Events for Schaper&#039;s Flood House
REFRESH-INTERVAL;VALUE=DURATION:PT1H
X-Robots-Tag:noindex
X-PUBLISHED-TTL:PT1H
BEGIN:VTIMEZONE
TZID:America/New_York
BEGIN:DAYLIGHT
TZOFFSETFROM:-0500
TZOFFSETTO:-0400
TZNAME:EDT
DTSTART:20190310T070000
END:DAYLIGHT
BEGIN:STANDARD
TZOFFSETFROM:-0400
TZOFFSETTO:-0500
TZNAME:EST
DTSTART:20191103T060000
END:STANDARD
BEGIN:DAYLIGHT
TZOFFSETFROM:-0500
TZOFFSETTO:-0400
TZNAME:EDT
DTSTART:20200308T070000
END:DAYLIGHT
BEGIN:STANDARD
TZOFFSETFROM:-0400
TZOFFSETTO:-0500
TZNAME:EST
DTSTART:20201101T060000
END:STANDARD
BEGIN:DAYLIGHT
TZOFFSETFROM:-0500
TZOFFSETTO:-0400
TZNAME:EDT
DTSTART:20210314T070000
END:DAYLIGHT
BEGIN:STANDARD
TZOFFSETFROM:-0400
TZOFFSETTO:-0500
TZNAME:EST
DTSTART:20211107T060000
END:STANDARD
END:VTIMEZONE
BEGIN:VEVENT
DTSTART;TZID=America/New_York:20200713T080000
DTEND;TZID=America/New_York:20200715T170000
DTSTAMP:20260420T104311
CREATED:20251103T181936Z
LAST-MODIFIED:20251103T181936Z
UID:10000480-1594627200-1594832400@schapersfloodhouse.com
SUMMARY:Water Damage Restoration Technician - WRT Online
DESCRIPTION:The IICRC Water Restoration Technician (WRT) 3-day course held from 8:00 am – 5:00 pm is the essential introduction to the science and practice of water damage restoration.  It is based on the IICRC S-500 Standard and Reference Guide for Professional Water Damage Restoration. \nThe course presents all of the basic concepts of water damage\, its effects and techniques for drying materials and structures and will provide the background to understand the procedures necessary when dealing with water losses\, sewer backflows and contamination such as mold. \nKey topics: \n\n\nThe aspects of communication with customers and insurance companies;\n\n\nHealth and Safety;\n\n\nUnderstanding various materials and their drying characteristics;\n\n\nDescription and use of ventilation equipment\, dehumidifiers\, air purifiers;\n\n\nExtraction equipment\, importance and performance;\n\n\nEquipment set-up;\n\n\nThe science of drying and the decision making process;\n\n\nThe basics of microbiology.\n\n\n* To receive your WRT certification you must pass the final exam with 75% or higher. \n* This course qualifies for 14 continuing education credits (CEC) with the IICRC. \nCourse Details \n\n2 day course; 14 hours\, not including exam time\, lunch and breaks\nExam fee: $80.00 payable to the IICRC here – https://my.iicrc.org/eweb\nInstructor: Richard Driscoll
URL:https://schapersfloodhouse.com/class/water-damage-restoration-technician-wrt-online-2/
LOCATION:Online Learning\, United States
ORGANIZER;CN="Schaper's Supply":MAILTO:dan@schaperssupply.com
GEO:37.09024;-95.712891
END:VEVENT
BEGIN:VEVENT
DTSTART;TZID=America/New_York:20200715T080000
DTEND;TZID=America/New_York:20200716T170000
DTSTAMP:20260420T104311
CREATED:20191104T212133Z
LAST-MODIFIED:20200626T175937Z
UID:10000393-1594800000-1594918800@schapersfloodhouse.com
SUMMARY:Fire and Smoke Restoration Technician- Online (or FSRT/OCT Combo Online)
DESCRIPTION:Overview \nIICRC Certified & Approved Fire and Smoke Restoration Technician course is held over two days. The Fire and Smoke Restoration Technician course covers smoke odor removal\, structure cleaning\, surface preparation and finishing\, and contents cleaning\, including wood furniture\, documents\, books\, and electronics.\nCertification: IICRC Fire and Smoke Restoration Technician.\nIICRC Exam available at additional charge – Qualifies for 14 continuing education credits (CEC) with the IICRC \nKey Topics \nTopics to be covered include the study of job planning and execution\, chemical and equipment requirements\, structural cleaning\, contents cleaning\, as well as determining the job scope and estimating. The manual contains a section of forms to be used on the job. \nFollowing a fire\, the customers “heightened awareness” can make the restorer’s job very difficult. Your best defense against this are: close inspection\, careful documentation and professional image. You will learn how different substances burning influence the difficulty of the clean up. \nSpecial Points of Instruction \nThe Fire and Smoke Restoration Technician course concentrates on technical procedure for successfully completing the restoration of a fire and smoke damaged environment. Students will learn how to combine technical procedures with a practical approach to managing the job site and how that relates to pricing the job. \nGetting the customers back into their restored home makes you the hero. They will not forget what you did for them and will certainly remember you when it is time for the next carpet cleaning. \nNOTE: This class will be held on Eastern Standard Time \nTo participate in our live-streamed classes\, please take note of the following important information and requirements: \n\nYou must have a computer with video and audio capabilities.\nYou must have access to a strong\, stable internet connection.*\nYou must fill out the IICRC Candidate Agreement form and pay for your exam as soon as possible\, but in any event no later than 4 days prior to the class.\nWhen paying your exam fees\, you will be asked to upload a piece of photo ID for face recognition during the exam.\nWe ask that you log into the class at least 30 minutes prior to the start time to ensure your technology is working and to be present for attendance and policy review.\n\n*Schaper’s Supply is not responsible for ensuring your internet connectivity or for any problems accessing a live-streamed class due to connectivity problems.  No refunds will be issued for any reason including connectivity problems. You can test your system capabilities in advance by visiting zoom.us/test. \nReview and confirmation of the above requirements (including all system requirements) is the responsibility of the student registering for the online course.   \nAll registrations for online classes are final.  Payment must be made at the time of registration and no refunds will be issued for online classes once a registration is completed. \nCan be taken as a combo with the OCT Class Friday\, July 17\, 2020 for just $435.00\, save $53.00 on tuition! Just sign up  under the FSRT/OCT class July 15-16\, 2020.  
URL:https://schapersfloodhouse.com/class/fire-and-smoke-restoration-technician-or-fsrt-oct-combo-2/
LOCATION:Online Learning\, United States
CATEGORIES:Fire and Smoke Restoration Technician,FSRT/OCT Combo
ATTACH;FMTTYPE=image/png:https://schapersfloodhouse.com/wp-content/uploads/iicrc_logo.png
ORGANIZER;CN="Schaper's Supply":MAILTO:dan@schaperssupply.com
GEO:37.09024;-95.712891
END:VEVENT
BEGIN:VEVENT
DTSTART;TZID=America/New_York:20200717T080000
DTEND;TZID=America/New_York:20200717T170000
DTSTAMP:20260420T104311
CREATED:20191104T212631Z
LAST-MODIFIED:20200626T195547Z
UID:10000394-1594972800-1595005200@schapersfloodhouse.com
SUMMARY:Odor Control Technician Online
DESCRIPTION:The Odor Control Technician course covers olfaction and odor\, odor sources\, detection process\, theory of odor control\, equipment\, chemical options and applications. The student will learn how to address odors caused from biological sources such as decomposition\, urine contamination\, and mold\, combustion sources such as fire and smoke damage\, and chemical sources such as fuel oil spills or volatile organic chemicals. \nEvery home\, every building and every vehicle provides the opportunity for odor remediation services. Odors caused from smoke\, water\, pet problems\, cigarette smoke\, cooking\, skunk\, dead animal and bacteria can all be remediated. Millions of dollars in property is replaced every year due to odor problems.  \nThis one-day course will teach you how to salvage and restore much of this discarded material. You will be given techniques that will allow you to help your customer without causing them any embarrassment. You will learn the principles of deodorization\, the chemicals\, equipment and procedures used to permanently remove odors. \nFor time and money invested\, this class will provide a superb return on investment.  \nNOTE: This class will be held on Eastern Standard Time \nTo participate in our live-streamed classes\, please take note of the following important information and requirements: \n\nYou must have a computer with video and audio capabilities.\nYou must have access to a strong\, stable internet connection.*\nYou must fill out the IICRC Candidate Agreement form and pay for your exam as soon as possible\, but in any event no later than 4 days prior to the class.\nWhen paying your exam fees\, you will be asked to upload a piece of photo ID for face recognition during the exam.\nWe ask that you log into the class at least 30 minutes prior to the start time to ensure your technology is working and to be present for attendance and policy review.\n\n*Schaper’s Supply is not responsible for ensuring your internet connectivity or for any problems accessing a live-streamed class due to connectivity problems.  No refunds will be issued for any reason including connectivity problems. You can test your system capabilities in advance by visiting zoom.us/test. \nReview and confirmation of the above requirements (including all system requirements) is the responsibility of the student registering for the online course.   \nAll registrations for online classes are final.  Payment must be made at the time of registration and no refunds will be issued for online classes once a registration is completed. \nCan be taken as a FSRT/OCT Combo class for $435.00\, sign up under FSRT 07/15/2020 and choose the combo ticket!
URL:https://schapersfloodhouse.com/class/odor-control-technician-5/
LOCATION:Online Learning\, United States
CATEGORIES:Odor Control Technician
ATTACH;FMTTYPE=image/png:https://schapersfloodhouse.com/wp-content/uploads/iicrc_logo.png
ORGANIZER;CN="Schaper's Supply":MAILTO:dan@schaperssupply.com
GEO:37.09024;-95.712891
END:VEVENT
BEGIN:VEVENT
DTSTART;TZID=America/New_York:20200728T080000
DTEND;TZID=America/New_York:20200731T170000
DTSTAMP:20260420T104311
CREATED:20191030T190541Z
LAST-MODIFIED:20200716T200848Z
UID:10000373-1595923200-1596214800@schapersfloodhouse.com
SUMMARY:Commercial Drying Specialist Online
DESCRIPTION:(Prerequisite:  IICRC Certification in WRT) \nThis course is a 4-day course that provides training in the proper set-up\, equipment and project management of commercial losses.  Commercial drying projects frequently have many more potential hazards and safety risks that are not generally encountered on residential projects. These hazards may include but not be limited to higher voltages\, confined spaces\, energized machinery\, hazardous chemicals\, heavy equipment and forklifts. The CDS course is not intended to be a health and safety course\, nor will it cover all of the potential hazards or OSHA compliance issues that may be encountered on commercial projects. It is required of participants to comply with all applicable local\, state/provincial and national safety rules and regulations. The participant is strongly advised to research and complete appropriate training programs (e.g. HST\, OSHA 10-hour\, Canadian HST) prior to participating in the CDS course. \nThe Commercial Drying Specialist course teaches proper inspection and preliminary determinations\, work flow and project management\, process administration and technical methods of effective and timely drying of commercial\, industrial\, institutional and complex residential water-damaged structures\, systems and contents.  The understanding of commercial projects is very different and more complex than that of typical residential structures.  The students will experience the set-up of large loss projects including equipment such as desiccants as well as managing the power constraints through the use of generators and power splitters.  This course is MUST for individuals involved in large-loss and CAT work! \nNOTE: This class will be held on Eastern Standard Time \nTo participate in our live-streamed classes\, please take note of the following important information and requirements: \n\nYou must have a computer with video and audio capabilities.\nYou must have access to a strong\, stable internet connection.*\nYou must fill out the IICRC Candidate Agreement form and pay for your exam as soon as possible\, but in any event no later than 4 days prior to the class.\nWhen paying your exam fees\, you will be asked to upload a piece of photo ID for face recognition during the exam.\nWe ask that you log into the class at least 30 minutes prior to the start time to ensure your technology is working and to be present for attendance and policy review.\n\n*Schaper’s Supply is not responsible for ensuring your internet connectivity or for any problems accessing a live-streamed class due to connectivity problems.  No refunds will be issued for any reason including connectivity problems. You can test your system capabilities in advance by visiting zoom.us/test. \nReview and confirmation of the above requirements (including all system requirements) is the responsibility of the student registering for the online course.   \nAll registrations for online classes are final.  Payment must be made at the time of registration and no refunds will be issued for online classes once a registration is completed.
URL:https://schapersfloodhouse.com/class/commercial-drying-specialist-5/
LOCATION:Online Learning\, United States
CATEGORIES:Commercial Drying Specialist
ATTACH;FMTTYPE=image/png:https://schapersfloodhouse.com/wp-content/uploads/iicrc_logo.png
ORGANIZER;CN="Schaper's Supply":MAILTO:dan@schaperssupply.com
GEO:37.09024;-95.712891
END:VEVENT
END:VCALENDAR