BEGIN:VCALENDAR
VERSION:2.0
PRODID:-//Schaper&#039;s Flood House - ECPv6.15.20//NONSGML v1.0//EN
CALSCALE:GREGORIAN
METHOD:PUBLISH
X-WR-CALNAME:Schaper&#039;s Flood House
X-ORIGINAL-URL:https://schapersfloodhouse.com
X-WR-CALDESC:Events for Schaper&#039;s Flood House
REFRESH-INTERVAL;VALUE=DURATION:PT1H
X-Robots-Tag:noindex
X-PUBLISHED-TTL:PT1H
BEGIN:VTIMEZONE
TZID:America/New_York
BEGIN:DAYLIGHT
TZOFFSETFROM:-0500
TZOFFSETTO:-0400
TZNAME:EDT
DTSTART:20240310T070000
END:DAYLIGHT
BEGIN:STANDARD
TZOFFSETFROM:-0400
TZOFFSETTO:-0500
TZNAME:EST
DTSTART:20241103T060000
END:STANDARD
BEGIN:DAYLIGHT
TZOFFSETFROM:-0500
TZOFFSETTO:-0400
TZNAME:EDT
DTSTART:20250309T070000
END:DAYLIGHT
BEGIN:STANDARD
TZOFFSETFROM:-0400
TZOFFSETTO:-0500
TZNAME:EST
DTSTART:20251102T060000
END:STANDARD
BEGIN:DAYLIGHT
TZOFFSETFROM:-0500
TZOFFSETTO:-0400
TZNAME:EDT
DTSTART:20260308T070000
END:DAYLIGHT
BEGIN:STANDARD
TZOFFSETFROM:-0400
TZOFFSETTO:-0500
TZNAME:EST
DTSTART:20261101T060000
END:STANDARD
END:VTIMEZONE
BEGIN:VEVENT
DTSTART;TZID=America/New_York:20250204T080000
DTEND;TZID=America/New_York:20250207T170000
DTSTAMP:20260421T141818
CREATED:20240927T155508Z
LAST-MODIFIED:20250203T182946Z
UID:10000452-1738656000-1738947600@schapersfloodhouse.com
SUMMARY:Applied Microbial Remediation Technician
DESCRIPTION:Prerequisite–The IICRC Water Restoration Tech Training must be completed prior to attending the AMRT training. \nOverview \nIICRC Certified & Approved Applied Microbial Remediation Technician course covers mold and sewage remediation techniques to individuals engaged in property management\, property restoration\, IEQ investigations or other related professions. Emphasis will be placed on teaching mold and sewage remediation techniques to individuals who will perform these procedures in the field. Course graduates will be adequately equipped to perform remediation services\, while protecting the health and safety of workers and occupants. \nKey Topics \n\nIntroduction to Mold and HVAC\n Standards and Guidelines\n Microbial Effects and Safety\n On-Site Assessment\n Detection Equipment and Sampling\n Containment Planning and Strategies\n Remediation Equipment\n Cleaning Protocols\n Decontamination and Cleaning\n Special Circumstances\n Respiratory Protection\n Job Safety Analysis\n Hands on Demonstration\n\nSpecial Points of Instruction \nIn the Applied Microbial Remediation Technician Course you will learn about the principles\, methods\, procedures and tools for structural and content remediation. The course addresses guidelines and industry standards\, containment types and set-ups\, pressure differentials\, demolition and cleaning procedures\, microbiology\, personal protection equipment and sampling methods. It provides the training to conduct remediation projects includes a hands-on section and concludes with the exam to receive IICRC™ certificate. \nCourse Details \n\n4 day course; 28 hours\, not including exam time\, lunch and breaks\nExam fee: $150.00 payable to the IICRC here – https://my.iicrc.org/eweb\nInstructor: Richard Driscoll
URL:https://schapersfloodhouse.com/class/applied-microbial-remediation-technician-19/
LOCATION:Schaper’s Flood House\, 1550 Calcon Hook Rd\, Sharon Hill\, PA\, 19079\, United States
CATEGORIES:Applied Microbial Remediation Technician
ATTACH;FMTTYPE=image/png:https://schapersfloodhouse.com/wp-content/uploads/iicrc_logo.png
ORGANIZER;CN="Schaper's Supply":MAILTO:dan@schaperssupply.com
GEO:39.89205;-75.26543
X-APPLE-STRUCTURED-LOCATION;VALUE=URI;X-ADDRESS=Schaper’s Flood House 1550 Calcon Hook Rd Sharon Hill PA 19079 United States;X-APPLE-RADIUS=500;X-TITLE=1550 Calcon Hook Rd:geo:-75.26543,39.89205
END:VEVENT
BEGIN:VEVENT
DTSTART;TZID=America/New_York:20250324T080000
DTEND;TZID=America/New_York:20250328T170000
DTSTAMP:20260421T141818
CREATED:20241108T203624Z
LAST-MODIFIED:20250305T161819Z
UID:10000458-1742803200-1743181200@schapersfloodhouse.com
SUMMARY:Water Damage Restoration Technician and Applied Structural Drying Technician
DESCRIPTION:This combo training combines WRT and ASD which means you will take two (2) IICRC certification examinations. You will qualify to take the WRT certification exam on day 4 and the ASD certification exam is on day 5. \n————————-\nThe Water Damage Restoration Technician course is designed to teach restoration personnel that perform remediation work to give them a better concept of water damage\, it’s effects and techniques for drying of structures. This course will give residential and commercial maintenance personnel the background to understand the procedures necessary to deal with water losses\, sewer back flows\, and contamination such as mold. \n————————- \nThe Applied Structural Drying course distinguishes restorers who have completed an intensive hands-on course in how to dry complete structures. The students actually “apply” new drying techniques as they learn them.  If you like hands on learning this class is for you. In this class you will receive both hands on and classroom lecture using all the latest in drying technology. \n\nLearn how to:\n\nextract properly using surface\, sub surface\, and weighted extraction tools\ndry in place\, partial float and other applications\ndirected heat application\nproper equipment placement\nuse meters to give you the information you need\ndry hardwood flooring\ndry ceramic tile\ndry cabinetry with no need for removal\ndry drywall and insulation without need for demolition\nuse structural cavity drying systems\nDesiccant and LGR use\n\n\nCourse Details \n\n5 day course; 31 hours\, not including exam time\, lunch and breaks\nExam fee: $160.00 payable to the IICRC here – https://my.iicrc.org/eweb\nInstructor: Scott Mims
URL:https://schapersfloodhouse.com/class/water-damage-restoration-technician-and-applied-structural-drying-technician-34/
LOCATION:Schaper’s Flood House\, 1550 Calcon Hook Rd\, Sharon Hill\, PA\, 19079\, United States
CATEGORIES:WRT/ASD Combo
ATTACH;FMTTYPE=image/png:https://schapersfloodhouse.com/wp-content/uploads/iicrc_logo.png
ORGANIZER;CN="Schaper's Supply":MAILTO:dan@schaperssupply.com
GEO:39.89205;-75.26543
X-APPLE-STRUCTURED-LOCATION;VALUE=URI;X-ADDRESS=Schaper’s Flood House 1550 Calcon Hook Rd Sharon Hill PA 19079 United States;X-APPLE-RADIUS=500;X-TITLE=1550 Calcon Hook Rd:geo:-75.26543,39.89205
END:VEVENT
BEGIN:VEVENT
DTSTART;TZID=America/New_York:20250415T080000
DTEND;TZID=America/New_York:20250417T170000
DTSTAMP:20260421T141818
CREATED:20241108T203926Z
LAST-MODIFIED:20241216T150137Z
UID:10000460-1744704000-1744909200@schapersfloodhouse.com
SUMMARY:Applied Structural Drying Technician
DESCRIPTION:Prerequisite: IICRC Water Restoration Technician Certification\nThe Applied Structural Drying course covers the effective\, efficient and timely drying of water-damaged structures and contents\, using comprehensive classroom and hands-on training\, in order to facilitate appropriate decision-making within a restorative drying environment. Students will experience live hands on use of instruments\, extraction systems\, drying equipment\, and chemistry use in an actual flooded building situation. \nWRT is required as a prerequisite to take ASD exam. \nCourse Details \n\n3 day course; 21 hours\, not including exam time\, lunch and breaks\nExam fee: $80.00 payable to the IICRC here – https://my.iicrc.org/eweb\nInstructor: Scott Mims
URL:https://schapersfloodhouse.com/class/applied-structural-drying-technician-3/
LOCATION:Schaper’s Flood House\, 1550 Calcon Hook Rd\, Sharon Hill\, PA\, 19079\, United States
CATEGORIES:Applied Structural Drying
ATTACH;FMTTYPE=image/png:https://schapersfloodhouse.com/wp-content/uploads/iicrc_logo.png
ORGANIZER;CN="Schaper's Supply":MAILTO:dan@schaperssupply.com
GEO:39.89205;-75.26543
X-APPLE-STRUCTURED-LOCATION;VALUE=URI;X-ADDRESS=Schaper’s Flood House 1550 Calcon Hook Rd Sharon Hill PA 19079 United States;X-APPLE-RADIUS=500;X-TITLE=1550 Calcon Hook Rd:geo:-75.26543,39.89205
END:VEVENT
BEGIN:VEVENT
DTSTART;TZID=America/New_York:20250429T080000
DTEND;TZID=America/New_York:20250502T170000
DTSTAMP:20260421T141818
CREATED:20240927T155737Z
LAST-MODIFIED:20240927T155737Z
UID:10000453-1745913600-1746205200@schapersfloodhouse.com
SUMMARY:Applied Microbial Remediation Technician
DESCRIPTION:Prerequisite–The IICRC Water Restoration Tech Training must be completed prior to attending the AMRT training. \nOverview \nIICRC Certified & Approved Applied Microbial Remediation Technician course covers mold and sewage remediation techniques to individuals engaged in property management\, property restoration\, IEQ investigations or other related professions. Emphasis will be placed on teaching mold and sewage remediation techniques to individuals who will perform these procedures in the field. Course graduates will be adequately equipped to perform remediation services\, while protecting the health and safety of workers and occupants. \nKey Topics \n\nIntroduction to Mold and HVAC\n Standards and Guidelines\n Microbial Effects and Safety\n On-Site Assessment\n Detection Equipment and Sampling\n Containment Planning and Strategies\n Remediation Equipment\n Cleaning Protocols\n Decontamination and Cleaning\n Special Circumstances\n Respiratory Protection\n Job Safety Analysis\n Hands on Demonstration\n\nSpecial Points of Instruction \nIn the Applied Microbial Remediation Technician Course you will learn about the principles\, methods\, procedures and tools for structural and content remediation. The course addresses guidelines and industry standards\, containment types and set-ups\, pressure differentials\, demolition and cleaning procedures\, microbiology\, personal protection equipment and sampling methods. It provides the training to conduct remediation projects includes a hands-on section and concludes with the exam to receive IICRC™ certificate. \nCourse Details \n\n4 day course; 28 hours\, not including exam time\, lunch and breaks\nExam fee: $150.00 payable to the IICRC here – https://my.iicrc.org/eweb\nInstructor: Richard Driscoll
URL:https://schapersfloodhouse.com/class/applied-microbial-remediation-technician-23/
LOCATION:Schaper’s Flood House\, 1550 Calcon Hook Rd\, Sharon Hill\, PA\, 19079\, United States
CATEGORIES:Applied Microbial Remediation Technician
ATTACH;FMTTYPE=image/png:https://schapersfloodhouse.com/wp-content/uploads/iicrc_logo.png
ORGANIZER;CN="Schaper's Supply":MAILTO:dan@schaperssupply.com
GEO:39.89205;-75.26543
X-APPLE-STRUCTURED-LOCATION;VALUE=URI;X-ADDRESS=Schaper’s Flood House 1550 Calcon Hook Rd Sharon Hill PA 19079 United States;X-APPLE-RADIUS=500;X-TITLE=1550 Calcon Hook Rd:geo:-75.26543,39.89205
END:VEVENT
BEGIN:VEVENT
DTSTART;TZID=America/New_York:20250512T080000
DTEND;TZID=America/New_York:20250516T170000
DTSTAMP:20260421T141818
CREATED:20250103T163722Z
LAST-MODIFIED:20250103T163722Z
UID:10000462-1747036800-1747414800@schapersfloodhouse.com
SUMMARY:Water Damage Restoration Technician and Applied Structural Drying Technician
DESCRIPTION:This combo training combines WRT and ASD which means you will take two (2) IICRC certification examinations. You will qualify to take the WRT certification exam on day 4 and the ASD certification exam is on day 5. \n————————-\nThe Water Damage Restoration Technician course is designed to teach restoration personnel that perform remediation work to give them a better concept of water damage\, it’s effects and techniques for drying of structures. This course will give residential and commercial maintenance personnel the background to understand the procedures necessary to deal with water losses\, sewer back flows\, and contamination such as mold. \n————————- \nThe Applied Structural Drying course distinguishes restorers who have completed an intensive hands-on course in how to dry complete structures. The students actually “apply” new drying techniques as they learn them.  If you like hands on learning this class is for you. In this class you will receive both hands on and classroom lecture using all the latest in drying technology. \n\nLearn how to:\n\nextract properly using surface\, sub surface\, and weighted extraction tools\ndry in place\, partial float and other applications\ndirected heat application\nproper equipment placement\nuse meters to give you the information you need\ndry hardwood flooring\ndry ceramic tile\ndry cabinetry with no need for removal\ndry drywall and insulation without need for demolition\nuse structural cavity drying systems\nDesiccant and LGR use\n\n\nCourse Details \n\n5 day course; 31 hours\, not including exam time\, lunch and breaks\nExam fee: $160.00 payable to the IICRC here – https://my.iicrc.org/eweb\nInstructor: Scott Mims
URL:https://schapersfloodhouse.com/class/water-damage-restoration-technician-and-applied-structural-drying-technician-35/
LOCATION:Schaper’s Flood House\, 1550 Calcon Hook Rd\, Sharon Hill\, PA\, 19079\, United States
CATEGORIES:WRT/ASD Combo
ATTACH;FMTTYPE=image/png:https://schapersfloodhouse.com/wp-content/uploads/iicrc_logo.png
ORGANIZER;CN="Schaper's Supply":MAILTO:dan@schaperssupply.com
GEO:39.89205;-75.26543
X-APPLE-STRUCTURED-LOCATION;VALUE=URI;X-ADDRESS=Schaper’s Flood House 1550 Calcon Hook Rd Sharon Hill PA 19079 United States;X-APPLE-RADIUS=500;X-TITLE=1550 Calcon Hook Rd:geo:-75.26543,39.89205
END:VEVENT
BEGIN:VEVENT
DTSTART;TZID=America/New_York:20250616T080000
DTEND;TZID=America/New_York:20250620T170000
DTSTAMP:20260421T141818
CREATED:20250103T164158Z
LAST-MODIFIED:20250602T134142Z
UID:10000463-1750060800-1750438800@schapersfloodhouse.com
SUMMARY:Water Damage Restoration Technician and Applied Structural Drying Technician
DESCRIPTION:This combo training combines WRT and ASD which means you will take two (2) IICRC certification examinations. You will qualify to take the WRT certification exam on day 4 and the ASD certification exam is on day 5. \n————————-\nThe Water Damage Restoration Technician course is designed to teach restoration personnel that perform remediation work to give them a better concept of water damage\, it’s effects and techniques for drying of structures. This course will give residential and commercial maintenance personnel the background to understand the procedures necessary to deal with water losses\, sewer back flows\, and contamination such as mold. \n————————- \nThe Applied Structural Drying course distinguishes restorers who have completed an intensive hands-on course in how to dry complete structures. The students actually “apply” new drying techniques as they learn them.  If you like hands on learning this class is for you. In this class you will receive both hands on and classroom lecture using all the latest in drying technology. \n\nLearn how to:\n\nextract properly using surface\, sub surface\, and weighted extraction tools\ndry in place\, partial float and other applications\ndirected heat application\nproper equipment placement\nuse meters to give you the information you need\ndry hardwood flooring\ndry ceramic tile\ndry cabinetry with no need for removal\ndry drywall and insulation without need for demolition\nuse structural cavity drying systems\nDesiccant and LGR use\n\n\nCourse Details \n\n5 day course; 31 hours\, not including exam time\, lunch and breaks\nExam fee: $160.00 payable to the IICRC here – https://my.iicrc.org/eweb\nInstructor: Scott Mims
URL:https://schapersfloodhouse.com/class/water-damage-restoration-technician-and-applied-structural-drying-technician-36/
LOCATION:Schaper’s Flood House\, 1550 Calcon Hook Rd\, Sharon Hill\, PA\, 19079\, United States
CATEGORIES:WRT/ASD Combo
ATTACH;FMTTYPE=image/png:https://schapersfloodhouse.com/wp-content/uploads/iicrc_logo.png
ORGANIZER;CN="Schaper's Supply":MAILTO:dan@schaperssupply.com
GEO:39.89205;-75.26543
X-APPLE-STRUCTURED-LOCATION;VALUE=URI;X-ADDRESS=Schaper’s Flood House 1550 Calcon Hook Rd Sharon Hill PA 19079 United States;X-APPLE-RADIUS=500;X-TITLE=1550 Calcon Hook Rd:geo:-75.26543,39.89205
END:VEVENT
END:VCALENDAR