BEGIN:VCALENDAR
VERSION:2.0
PRODID:-//Schaper&#039;s Flood House - ECPv6.15.20//NONSGML v1.0//EN
CALSCALE:GREGORIAN
METHOD:PUBLISH
X-WR-CALNAME:Schaper&#039;s Flood House
X-ORIGINAL-URL:https://schapersfloodhouse.com
X-WR-CALDESC:Events for Schaper&#039;s Flood House
REFRESH-INTERVAL;VALUE=DURATION:PT1H
X-Robots-Tag:noindex
X-PUBLISHED-TTL:PT1H
BEGIN:VTIMEZONE
TZID:America/New_York
BEGIN:DAYLIGHT
TZOFFSETFROM:-0500
TZOFFSETTO:-0400
TZNAME:EDT
DTSTART:20140309T070000
END:DAYLIGHT
BEGIN:STANDARD
TZOFFSETFROM:-0400
TZOFFSETTO:-0500
TZNAME:EST
DTSTART:20141102T060000
END:STANDARD
BEGIN:DAYLIGHT
TZOFFSETFROM:-0500
TZOFFSETTO:-0400
TZNAME:EDT
DTSTART:20150308T070000
END:DAYLIGHT
BEGIN:STANDARD
TZOFFSETFROM:-0400
TZOFFSETTO:-0500
TZNAME:EST
DTSTART:20151101T060000
END:STANDARD
BEGIN:DAYLIGHT
TZOFFSETFROM:-0500
TZOFFSETTO:-0400
TZNAME:EDT
DTSTART:20160313T070000
END:DAYLIGHT
BEGIN:STANDARD
TZOFFSETFROM:-0400
TZOFFSETTO:-0500
TZNAME:EST
DTSTART:20161106T060000
END:STANDARD
END:VTIMEZONE
BEGIN:VEVENT
DTSTART;VALUE=DATE:20150824
DTEND;VALUE=DATE:20150829
DTSTAMP:20260421T002240
CREATED:20150407T131220Z
LAST-MODIFIED:20161005T182653Z
UID:10000271-1440374400-1440806399@schapersfloodhouse.com
SUMMARY:Water Damage Restoration Technician/Applied Structural Drying (WRT/ASD) Combination Course
DESCRIPTION:This course must be attended in its entirety along with passing both WRT and ASD exams during that same five (5) day period.  If any portion of the course and exam are not completed during the five (5) day period\, the student is required to re-attend the entire five (5) day course to receive both certifications.  No portion of the five (5) day course can be applied to either a WRT or ASD course being taught separately. See course description of WRT and ASD for further details of subject coverage. \n  \nCourse Details \n5 day course; 31 hours\, not including exam time\, lunch and breaks)
URL:https://schapersfloodhouse.com/class/water-damage-restoration-technicianapplied-structural-drying-wrtasd-combination-course/
LOCATION:Schaper’s Flood House\, 1550 Calcon Hook Rd\, Sharon Hill\, PA\, 19079\, United States
CATEGORIES:IICRC Training,WRT/ASD Combo
ATTACH;FMTTYPE=image/png:https://schapersfloodhouse.com/wp-content/uploads/iicrc_logo.png
ORGANIZER;CN="Schaper's Supply":MAILTO:dan@schaperssupply.com
GEO:39.89205;-75.26543
X-APPLE-STRUCTURED-LOCATION;VALUE=URI;X-ADDRESS=Schaper’s Flood House 1550 Calcon Hook Rd Sharon Hill PA 19079 United States;X-APPLE-RADIUS=500;X-TITLE=1550 Calcon Hook Rd:geo:-75.26543,39.89205
END:VEVENT
BEGIN:VEVENT
DTSTART;VALUE=DATE:20150804
DTEND;VALUE=DATE:20150808
DTSTAMP:20260421T002240
CREATED:20150407T130946Z
LAST-MODIFIED:20161005T182518Z
UID:10000270-1438646400-1438991999@schapersfloodhouse.com
SUMMARY:Applied Microbial Remediation Technician
DESCRIPTION:The Applied Microbial Remediation Technician course covers mold and sewage remediation techniques to individuals engaged in property management\, property restoration\, IEQ investigations or other related professions. Emphasis will be placed on teaching mold and sewage remediation techniques to individuals who will perform these procedures in the field. Course graduates will be adequately equipped to perform remediation services\, while protecting the health and safety of workers and occupants. \n  \nCourse Details \n4 day course; 28 hours\, not including exam time\, lunch and breaks)
URL:https://schapersfloodhouse.com/class/applied-microbial-remediation-technician/
LOCATION:Schaper’s Flood House\, 1550 Calcon Hook Rd\, Sharon Hill\, PA\, 19079\, United States
CATEGORIES:Applied Microbial Remediation Technician,IICRC Training
ATTACH;FMTTYPE=image/png:https://schapersfloodhouse.com/wp-content/uploads/iicrc_logo.png
ORGANIZER;CN="Schaper's Supply":MAILTO:dan@schaperssupply.com
GEO:39.89205;-75.26543
X-APPLE-STRUCTURED-LOCATION;VALUE=URI;X-ADDRESS=Schaper’s Flood House 1550 Calcon Hook Rd Sharon Hill PA 19079 United States;X-APPLE-RADIUS=500;X-TITLE=1550 Calcon Hook Rd:geo:-75.26543,39.89205
END:VEVENT
BEGIN:VEVENT
DTSTART;VALUE=DATE:20150728
DTEND;VALUE=DATE:20150731
DTSTAMP:20260421T002240
CREATED:20150407T130712Z
LAST-MODIFIED:20161005T182413Z
UID:10000269-1438041600-1438300799@schapersfloodhouse.com
SUMMARY:Applied Structural Drying
DESCRIPTION:The IICRC-approved Applied Structural Drying (ASD) course is designed to teach the effective\, efficient and timely drying of water-damaged structures and contents\, using comprehensive classroom and hands-on training\, in order to facilitate appropriate decision making within a restorative drying environment. \n  \nCourse Details \n3 day course; 21 hours\, not including exam time\, lunch and breaks)
URL:https://schapersfloodhouse.com/class/applied-structural-drying-2/
LOCATION:Schaper’s Flood House\, 1550 Calcon Hook Rd\, Sharon Hill\, PA\, 19079\, United States
CATEGORIES:Applied Structural Drying,IICRC Training
ATTACH;FMTTYPE=image/png:https://schapersfloodhouse.com/wp-content/uploads/iicrc_logo.png
ORGANIZER;CN="Schaper's Supply":MAILTO:dan@schaperssupply.com
GEO:39.89205;-75.26543
X-APPLE-STRUCTURED-LOCATION;VALUE=URI;X-ADDRESS=Schaper’s Flood House 1550 Calcon Hook Rd Sharon Hill PA 19079 United States;X-APPLE-RADIUS=500;X-TITLE=1550 Calcon Hook Rd:geo:-75.26543,39.89205
END:VEVENT
BEGIN:VEVENT
DTSTART;VALUE=DATE:20150708
DTEND;VALUE=DATE:20150710
DTSTAMP:20260421T002240
CREATED:20150407T130447Z
LAST-MODIFIED:20161005T161626Z
UID:10000268-1436313600-1436486399@schapersfloodhouse.com
SUMMARY:Health and Safety Technician
DESCRIPTION:The Health and Safety Technician class is a must for anyone performing restoration or mold remediation! This course is provided to increase safety in your workplace and reduce your company’s risk of costly fines and penalties. It is also designed to put you ahead in the restoration industry to show insurance companies you and your staff are ahead of the competition regarding health and safety. Topics to be covered are: OSHA standards\, Inspections\, Citations and Penalties\, Record keeping\, Personal Protective Equipment (PPE)\, Hazard Communication\, Hazardous Materials\, Confined Spaces\, and Bloodborne Pathogens. \n  \nCourse Details \n2 day course; 14 hours\, not including exam time\, lunch and breaks
URL:https://schapersfloodhouse.com/class/health-and-safety-technician/
LOCATION:Schaper’s Flood House\, 1550 Calcon Hook Rd\, Sharon Hill\, PA\, 19079\, United States
CATEGORIES:Health and Safety Technician,IICRC Training
ATTACH;FMTTYPE=image/png:https://schapersfloodhouse.com/wp-content/uploads/iicrc_logo.png
ORGANIZER;CN="Schaper's Supply":MAILTO:dan@schaperssupply.com
GEO:39.89205;-75.26543
X-APPLE-STRUCTURED-LOCATION;VALUE=URI;X-ADDRESS=Schaper’s Flood House 1550 Calcon Hook Rd Sharon Hill PA 19079 United States;X-APPLE-RADIUS=500;X-TITLE=1550 Calcon Hook Rd:geo:-75.26543,39.89205
END:VEVENT
BEGIN:VEVENT
DTSTART;VALUE=DATE:20150624
DTEND;VALUE=DATE:20150627
DTSTAMP:20260421T002240
CREATED:20150407T130217Z
LAST-MODIFIED:20150617T154842Z
UID:10000267-1435104000-1435363199@schapersfloodhouse.com
SUMMARY:Water Damage Restoration Technician
DESCRIPTION:The Water Damage Restoration Technician course is designed to teach restoration personnel that perform remediation work to give them a better concept of water damage\, it’s effects and techniques for drying of structures. This course will give residential and commercial maintenance personnel the background to understand the procedures necessary to deal with water losses\, sewer backflows\, and contamination such as mold. \n  \nCourse Details \n3 day course; 19 hours\, not including exam time\, lunch and breaks)
URL:https://schapersfloodhouse.com/class/water-damage-restoration-technician/
LOCATION:Schaper’s Flood House\, 1550 Calcon Hook Rd\, Sharon Hill\, PA\, 19079\, United States
CATEGORIES:IICRC Training,Water Damage Restoration Technician
ATTACH;FMTTYPE=image/png:https://schapersfloodhouse.com/wp-content/uploads/iicrc_logo.png
ORGANIZER;CN="Schaper's Supply":MAILTO:dan@schaperssupply.com
GEO:39.89205;-75.26543
X-APPLE-STRUCTURED-LOCATION;VALUE=URI;X-ADDRESS=Schaper’s Flood House 1550 Calcon Hook Rd Sharon Hill PA 19079 United States;X-APPLE-RADIUS=500;X-TITLE=1550 Calcon Hook Rd:geo:-75.26543,39.89205
END:VEVENT
BEGIN:VEVENT
DTSTART;TZID=America/New_York:20150617T080000
DTEND;TZID=America/New_York:20150617T170000
DTSTAMP:20260421T002240
CREATED:20150616T191303Z
LAST-MODIFIED:20150617T170851Z
UID:10000286-1434528000-1434560400@schapersfloodhouse.com
SUMMARY:Test Class
DESCRIPTION:Nunc nonummy metus. Fusce risus nisl\, viverra et\, tempor et\, pretium in\, sapien. Phasellus gravida semper nisi. Quisque libero metus\, condimentum nec\, tempor a\, commodo mollis\, magna. Vivamus elementum semper nisi. \nPraesent congue erat at massa. Quisque rutrum. Fusce neque. Proin pretium\, leo ac pellentesque mollis\, felis nunc ultrices eros\, sed gravida augue augue mollis justo. Etiam vitae tortor. \nDonec orci lectus\, aliquam ut\, faucibus non\, euismod id\, nulla. Donec elit libero\, sodales nec\, volutpat a\, suscipit non\, turpis. Nam pretium turpis et arcu. Vivamus elementum semper nisi. Vestibulum eu odio.
URL:https://schapersfloodhouse.com/class/test-class/
LOCATION:Schaper’s Flood House\, 1550 Calcon Hook Rd\, Sharon Hill\, PA\, 19079\, United States
CATEGORIES:Workshops
ATTACH;FMTTYPE=image/png:https://schapersfloodhouse.com/wp-content/uploads/sfh-tall150l.png
ORGANIZER;CN="Schaper's Supply":MAILTO:dan@schaperssupply.com
GEO:39.89205;-75.26543
X-APPLE-STRUCTURED-LOCATION;VALUE=URI;X-ADDRESS=Schaper’s Flood House 1550 Calcon Hook Rd Sharon Hill PA 19079 United States;X-APPLE-RADIUS=500;X-TITLE=1550 Calcon Hook Rd:geo:-75.26543,39.89205
END:VEVENT
BEGIN:VEVENT
DTSTART;VALUE=DATE:20150601
DTEND;VALUE=DATE:20150606
DTSTAMP:20260421T002240
CREATED:20150407T125625Z
LAST-MODIFIED:20161005T182015Z
UID:10000266-1433116800-1433548799@schapersfloodhouse.com
SUMMARY:Water Damage Restoration Technician/Applied Structural Drying (WRT/ASD) Combination Course
DESCRIPTION:This course must be attended in its entirety along with passing both WRT and ASD exams during that same five (5) day period.  If any portion of the course and exam are not completed during the five (5) day period\, the student is required to re-attend the entire five (5) day course to receive both certifications.  No portion of the five (5) day course can be applied to either a WRT or ASD course being taught separately. See course description of WRT and ASD for further details of subject coverage. \n  \nCourse Details \n5 day course; 31 hours\, not including exam time\, lunch and breaks
URL:https://schapersfloodhouse.com/class/wrtasd-combo/
LOCATION:Schaper’s Flood House\, 1550 Calcon Hook Rd\, Sharon Hill\, PA\, 19079\, United States
CATEGORIES:IICRC Training,WRT/ASD Combo
ATTACH;FMTTYPE=image/png:https://schapersfloodhouse.com/wp-content/uploads/iicrc_logo.png
ORGANIZER;CN="Schaper's Supply":MAILTO:dan@schaperssupply.com
GEO:39.89205;-75.26543
X-APPLE-STRUCTURED-LOCATION;VALUE=URI;X-ADDRESS=Schaper’s Flood House 1550 Calcon Hook Rd Sharon Hill PA 19079 United States;X-APPLE-RADIUS=500;X-TITLE=1550 Calcon Hook Rd:geo:-75.26543,39.89205
END:VEVENT
BEGIN:VEVENT
DTSTART;VALUE=DATE:20150513
DTEND;VALUE=DATE:20150515
DTSTAMP:20260421T002240
CREATED:20150407T123316Z
LAST-MODIFIED:20161005T181853Z
UID:10000265-1431475200-1431647999@schapersfloodhouse.com
SUMMARY:Trauma Scene Cleanup
DESCRIPTION:A comprehensive course covering trauma scene cleanup and decontamination. Attendees will acquire the necessary skills and knowledge required to properly evaluate\, clean and decontaminate a site following a human trauma event.
URL:https://schapersfloodhouse.com/class/trauma-scene-cleanup/
LOCATION:Schaper’s Flood House\, 1550 Calcon Hook Rd\, Sharon Hill\, PA\, 19079\, United States
CATEGORIES:IICRC Training,Trauma Scene Cleanup
ATTACH;FMTTYPE=image/png:https://schapersfloodhouse.com/wp-content/uploads/iicrc_logo.png
ORGANIZER;CN="Schaper's Supply":MAILTO:dan@schaperssupply.com
GEO:39.89205;-75.26543
X-APPLE-STRUCTURED-LOCATION;VALUE=URI;X-ADDRESS=Schaper’s Flood House 1550 Calcon Hook Rd Sharon Hill PA 19079 United States;X-APPLE-RADIUS=500;X-TITLE=1550 Calcon Hook Rd:geo:-75.26543,39.89205
END:VEVENT
END:VCALENDAR