BEGIN:VCALENDAR
VERSION:2.0
PRODID:-//Schaper&#039;s Flood House - ECPv6.15.20//NONSGML v1.0//EN
CALSCALE:GREGORIAN
METHOD:PUBLISH
X-ORIGINAL-URL:https://schapersfloodhouse.com
X-WR-CALDESC:Events for Schaper&#039;s Flood House
REFRESH-INTERVAL;VALUE=DURATION:PT1H
X-Robots-Tag:noindex
X-PUBLISHED-TTL:PT1H
BEGIN:VTIMEZONE
TZID:America/New_York
BEGIN:DAYLIGHT
TZOFFSETFROM:-0500
TZOFFSETTO:-0400
TZNAME:EDT
DTSTART:20140309T070000
END:DAYLIGHT
BEGIN:STANDARD
TZOFFSETFROM:-0400
TZOFFSETTO:-0500
TZNAME:EST
DTSTART:20141102T060000
END:STANDARD
BEGIN:DAYLIGHT
TZOFFSETFROM:-0500
TZOFFSETTO:-0400
TZNAME:EDT
DTSTART:20150308T070000
END:DAYLIGHT
BEGIN:STANDARD
TZOFFSETFROM:-0400
TZOFFSETTO:-0500
TZNAME:EST
DTSTART:20151101T060000
END:STANDARD
BEGIN:DAYLIGHT
TZOFFSETFROM:-0500
TZOFFSETTO:-0400
TZNAME:EDT
DTSTART:20160313T070000
END:DAYLIGHT
BEGIN:STANDARD
TZOFFSETFROM:-0400
TZOFFSETTO:-0500
TZNAME:EST
DTSTART:20161106T060000
END:STANDARD
BEGIN:DAYLIGHT
TZOFFSETFROM:-0500
TZOFFSETTO:-0400
TZNAME:EDT
DTSTART:20170312T070000
END:DAYLIGHT
BEGIN:STANDARD
TZOFFSETFROM:-0400
TZOFFSETTO:-0500
TZNAME:EST
DTSTART:20171105T060000
END:STANDARD
BEGIN:DAYLIGHT
TZOFFSETFROM:-0500
TZOFFSETTO:-0400
TZNAME:EDT
DTSTART:20180311T070000
END:DAYLIGHT
BEGIN:STANDARD
TZOFFSETFROM:-0400
TZOFFSETTO:-0500
TZNAME:EST
DTSTART:20181104T060000
END:STANDARD
BEGIN:DAYLIGHT
TZOFFSETFROM:-0500
TZOFFSETTO:-0400
TZNAME:EDT
DTSTART:20190310T070000
END:DAYLIGHT
BEGIN:STANDARD
TZOFFSETFROM:-0400
TZOFFSETTO:-0500
TZNAME:EST
DTSTART:20191103T060000
END:STANDARD
BEGIN:DAYLIGHT
TZOFFSETFROM:-0500
TZOFFSETTO:-0400
TZNAME:EDT
DTSTART:20200308T070000
END:DAYLIGHT
BEGIN:STANDARD
TZOFFSETFROM:-0400
TZOFFSETTO:-0500
TZNAME:EST
DTSTART:20201101T060000
END:STANDARD
BEGIN:DAYLIGHT
TZOFFSETFROM:-0500
TZOFFSETTO:-0400
TZNAME:EDT
DTSTART:20210314T070000
END:DAYLIGHT
BEGIN:STANDARD
TZOFFSETFROM:-0400
TZOFFSETTO:-0500
TZNAME:EST
DTSTART:20211107T060000
END:STANDARD
END:VTIMEZONE
BEGIN:VEVENT
DTSTART;TZID=America/New_York:20200818T080000
DTEND;TZID=America/New_York:20200819T170000
DTSTAMP:20260421T190243
CREATED:20191030T193209Z
LAST-MODIFIED:20200716T201302Z
UID:10000387-1597737600-1597856400@schapersfloodhouse.com
SUMMARY:Trauma and Crime Scene Technician Online - IICRC
DESCRIPTION:Trauma and Crime Scene Technician TCST course is designed to provide basic education\, guidance\, and understanding of the unique situations encountered when performing trauma and crime scene cleanup\, regardless of surface\, item\, or location. The course will discuss the various procedures and precautions that should be taken when performing work at a trauma/crime scene and is based on the ANSI/IICRC S540 Standard for Trauma and Crime Scene Cleanup: 2017 \nThe purpose is to teach the methodologies used by the technician\, the worker\, and other materially interested parties for inspecting and investigating human blood and other potentially infectious materials (OPIM) contamination to establish hazard assessments\, work plans\, and procedures for cleaning and safe transportation of contaminated material. When coupled with additional on-the-job training and field experience\, students should be able to safely perform trauma and crime scene cleanup. \n\nCourse is 2 days.\nInstructor: Randy Pierce\n\nNOTE: This class will be held on Eastern Standard Time \nTo participate in our live-streamed classes\, please take note of the following important information and requirements: \n\nYou must have a computer with video and audio capabilities.\nYou must have access to a strong\, stable internet connection.*\nYou must fill out the IICRC Candidate Agreement form and pay for your exam as soon as possible\, but in any event no later than 4 days prior to the class.\nWhen paying your exam fees\, you will be asked to upload a piece of photo ID for face recognition during the exam.\nWe ask that you log into the class at least 30 minutes prior to the start time to ensure your technology is working and to be present for attendance and policy review.\n\n*Schaper’s Supply is not responsible for ensuring your internet connectivity or for any problems accessing a live-streamed class due to connectivity problems.  No refunds will be issued for any reason including connectivity problems. You can test your system capabilities in advance by visiting zoom.us/test. \nReview and confirmation of the above requirements (including all system requirements) is the responsibility of the student registering for the online course.   \nAll registrations for online classes are final.  Payment must be made at the time of registration and no refunds will be issued for online classes once a registration is completed.
URL:https://schapersfloodhouse.com/class/trauma-and-crime-scene-technician-iicrc/
LOCATION:Online Learning\, United States
CATEGORIES:Trauma Scene Cleanup
ATTACH;FMTTYPE=image/png:https://schapersfloodhouse.com/wp-content/uploads/iicrc_logo.png
ORGANIZER;CN="Schaper's Supply":MAILTO:dan@schaperssupply.com
GEO:37.09024;-95.712891
END:VEVENT
BEGIN:VEVENT
DTSTART;TZID=America/New_York:20190917T080000
DTEND;TZID=America/New_York:20190918T170000
DTSTAMP:20260421T190243
CREATED:20181114T160709Z
LAST-MODIFIED:20190909T173843Z
UID:10000291-1568707200-1568826000@schapersfloodhouse.com
SUMMARY:Trauma and Crime Scene Technician - IICRC (New)
DESCRIPTION:Trauma and Crime Scene Technician TCST course is designed to provide basic education\, guidance\, and understanding of the unique situations encountered when performing trauma and crime scene cleanup\, regardless of surface\, item\, or location. The course will discuss the various procedures and precautions that should be taken when performing work at a trauma/crime scene and is based on the ANSI/IICRC S540 Standard for Trauma and Crime Scene Cleanup: 2017 \nThe purpose is to teach the methodologies used by the technician\, the worker\, and other materially interested parties for inspecting and investigating human blood and other potentially infectious materials (OPIM) contamination to establish hazard assessments\, work plans\, and procedures for cleaning and safe transportation of contaminated material. When coupled with additional on-the-job training and field experience\, students should be able to safely perform trauma and crime scene cleanup. \n\nCourse is 2 days.\nExam fee: $65.00 payable to the IICRC and collected by the instructor prior to the exam.\nInstructor: Randy Pierce
URL:https://schapersfloodhouse.com/class/trauma-and-crime-scene-technician/
LOCATION:Schaper’s Flood House\, 1550 Calcon Hook Rd\, Sharon Hill\, PA\, 19079\, United States
CATEGORIES:IICRC Training,Trauma Scene Cleanup
ATTACH;FMTTYPE=image/png:https://schapersfloodhouse.com/wp-content/uploads/iicrc_logo.png
ORGANIZER;CN="Schaper's Supply":MAILTO:dan@schaperssupply.com
GEO:39.89205;-75.26543
X-APPLE-STRUCTURED-LOCATION;VALUE=URI;X-ADDRESS=Schaper’s Flood House 1550 Calcon Hook Rd Sharon Hill PA 19079 United States;X-APPLE-RADIUS=500;X-TITLE=1550 Calcon Hook Rd:geo:-75.26543,39.89205
END:VEVENT
BEGIN:VEVENT
DTSTART;TZID=America/New_York:20170215T080000
DTEND;TZID=America/New_York:20170216T170000
DTSTAMP:20260421T190243
CREATED:20161027T195014Z
LAST-MODIFIED:20161027T195014Z
UID:10000379-1487145600-1487264400@schapersfloodhouse.com
SUMMARY:Trauma Scene Remediation 211
DESCRIPTION:MR 211 is a comprehensive course covering trauma scene cleanup and decontamination. Attendees will acquire the necessary skills and knowledge required to properly evaluate\, clean and decontaminate a site following a human trauma event. \nCourse Focus: \nMicrobiology: Microbiology of human bodily fluids and potential pathogenic implications \nRegulations: OSHA\, CDC\, FDA and State requirements\, regulations and recommendations \nPsychological Issues: Psychological issues related to surviving family\, occupants\, and workers Health & Safety: Lines of defense\, Immunizations\, Personal Protective Equipment (PPE) \nBiocides: Discusses why and how to use antimicrobials and biocides Work Practices: Equipment\, supplies and processes for structure and contents decontamination Odor Control: Discusses methods and procedures to control and remove odor Work \nPractices: Processes for cleanup/remediation of both structure and contents HVAC Systems: Provides methods for evaluating restoration processes and feasibility \nPutrefaction: Managing trauma scene cleanup after significant time has allowed putrefaction \nCase Study: Utilizes actual project files to illustrate full cleaning and decontamination process \nLength: 2 Days\,   Certification: RSA \nTesting fee included in registration fee
URL:https://schapersfloodhouse.com/class/trauma-scene-remediation-211-2/
LOCATION:Schaper’s Flood House\, 1550 Calcon Hook Rd\, Sharon Hill\, PA\, 19079\, United States
CATEGORIES:Trauma Scene Cleanup
ATTACH;FMTTYPE=image/png:https://schapersfloodhouse.com/wp-content/uploads/RSA_White.png
ORGANIZER;CN="Schaper's Supply":MAILTO:dan@schaperssupply.com
GEO:39.89205;-75.26543
X-APPLE-STRUCTURED-LOCATION;VALUE=URI;X-ADDRESS=Schaper’s Flood House 1550 Calcon Hook Rd Sharon Hill PA 19079 United States;X-APPLE-RADIUS=500;X-TITLE=1550 Calcon Hook Rd:geo:-75.26543,39.89205
END:VEVENT
BEGIN:VEVENT
DTSTART;TZID=America/New_York:20160405T080000
DTEND;TZID=America/New_York:20160406T170000
DTSTAMP:20260421T190243
CREATED:20150928T185310Z
LAST-MODIFIED:20161005T151418Z
UID:10000298-1459843200-1459962000@schapersfloodhouse.com
SUMMARY:Trauma Scene Remediation 211
DESCRIPTION:  \nMR 211 is a comprehensive course covering trauma scene cleanup and decontamination. Attendees will acquire the necessary skills and knowledge required to properly evaluate\, clean and decontaminate a site following a human trauma event. \nCourse Focus: \nMicrobiology: Microbiology of human bodily fluids and potential pathogenic implications \nRegulations: OSHA\, CDC\, FDA and State requirements\, regulations and recommendations \nPsychological Issues: Psychological issues related to surviving family\, occupants\, and workers Health & Safety: Lines of defense\, Immunizations\, Personal Protective Equipment (PPE) \nBiocides: Discusses why and how to use antimicrobials and biocides Work Practices: Equipment\, supplies and processes for structure and contents decontamination Odor Control: Discusses methods and procedures to control and remove odor Work \nPractices: Processes for cleanup/remediation of both structure and contents HVAC Systems: Provides methods for evaluating restoration processes and feasibility \nPutrefaction: Managing trauma scene cleanup after significant time has allowed putrefaction \nCase Study: Utilizes actual project files to illustrate full cleaning and decontamination process \n  \nLength: 2 Days\,   Certification: RSA \nTesting fee included in registration fee
URL:https://schapersfloodhouse.com/class/trauma-scene-remediation-211/
LOCATION:Schaper’s Flood House\, 1550 Calcon Hook Rd\, Sharon Hill\, PA\, 19079\, United States
CATEGORIES:Trauma Scene Cleanup
ATTACH;FMTTYPE=image/png:https://schapersfloodhouse.com/wp-content/uploads/RSA_White.png
ORGANIZER;CN="Schaper's Supply":MAILTO:dan@schaperssupply.com
GEO:39.89205;-75.26543
X-APPLE-STRUCTURED-LOCATION;VALUE=URI;X-ADDRESS=Schaper’s Flood House 1550 Calcon Hook Rd Sharon Hill PA 19079 United States;X-APPLE-RADIUS=500;X-TITLE=1550 Calcon Hook Rd:geo:-75.26543,39.89205
END:VEVENT
BEGIN:VEVENT
DTSTART;VALUE=DATE:20150513
DTEND;VALUE=DATE:20150515
DTSTAMP:20260421T190243
CREATED:20150407T123316Z
LAST-MODIFIED:20161005T181853Z
UID:10000265-1431475200-1431647999@schapersfloodhouse.com
SUMMARY:Trauma Scene Cleanup
DESCRIPTION:A comprehensive course covering trauma scene cleanup and decontamination. Attendees will acquire the necessary skills and knowledge required to properly evaluate\, clean and decontaminate a site following a human trauma event.
URL:https://schapersfloodhouse.com/class/trauma-scene-cleanup/
LOCATION:Schaper’s Flood House\, 1550 Calcon Hook Rd\, Sharon Hill\, PA\, 19079\, United States
CATEGORIES:IICRC Training,Trauma Scene Cleanup
ATTACH;FMTTYPE=image/png:https://schapersfloodhouse.com/wp-content/uploads/iicrc_logo.png
ORGANIZER;CN="Schaper's Supply":MAILTO:dan@schaperssupply.com
GEO:39.89205;-75.26543
X-APPLE-STRUCTURED-LOCATION;VALUE=URI;X-ADDRESS=Schaper’s Flood House 1550 Calcon Hook Rd Sharon Hill PA 19079 United States;X-APPLE-RADIUS=500;X-TITLE=1550 Calcon Hook Rd:geo:-75.26543,39.89205
END:VEVENT
END:VCALENDAR