BEGIN:VCALENDAR
VERSION:2.0
PRODID:-//Schaper&#039;s Flood House - ECPv6.15.20//NONSGML v1.0//EN
CALSCALE:GREGORIAN
METHOD:PUBLISH
X-ORIGINAL-URL:https://schapersfloodhouse.com
X-WR-CALDESC:Events for Schaper&#039;s Flood House
REFRESH-INTERVAL;VALUE=DURATION:PT1H
X-Robots-Tag:noindex
X-PUBLISHED-TTL:PT1H
BEGIN:VTIMEZONE
TZID:America/New_York
BEGIN:DAYLIGHT
TZOFFSETFROM:-0500
TZOFFSETTO:-0400
TZNAME:EDT
DTSTART:20180311T070000
END:DAYLIGHT
BEGIN:STANDARD
TZOFFSETFROM:-0400
TZOFFSETTO:-0500
TZNAME:EST
DTSTART:20181104T060000
END:STANDARD
BEGIN:DAYLIGHT
TZOFFSETFROM:-0500
TZOFFSETTO:-0400
TZNAME:EDT
DTSTART:20190310T070000
END:DAYLIGHT
BEGIN:STANDARD
TZOFFSETFROM:-0400
TZOFFSETTO:-0500
TZNAME:EST
DTSTART:20191103T060000
END:STANDARD
BEGIN:DAYLIGHT
TZOFFSETFROM:-0500
TZOFFSETTO:-0400
TZNAME:EDT
DTSTART:20200308T070000
END:DAYLIGHT
BEGIN:STANDARD
TZOFFSETFROM:-0400
TZOFFSETTO:-0500
TZNAME:EST
DTSTART:20201101T060000
END:STANDARD
END:VTIMEZONE
BEGIN:VEVENT
DTSTART;TZID=America/New_York:20190430T080000
DTEND;TZID=America/New_York:20190501T170000
DTSTAMP:20260420T071504
CREATED:20181106T185841Z
LAST-MODIFIED:20190313T182025Z
UID:10000273-1556611200-1556730000@schapersfloodhouse.com
SUMMARY:Health and Safety Technician (or HST/FSRT Combo)
DESCRIPTION:The Health and Safety Technician class is a must for anyone performing restoration or mold remediation! This course is provided to increase safety in your workplace and reduce your company’s risk of costly fines and penalties. It is also designed to put you ahead in the restoration industry to show insurance companies you and your staff are ahead of the competition regarding health and safety. Topics to be covered are: OSHA standards\, Inspections\, Citations and Penalties\, Record keeping\, Personal Protective Equipment (PPE)\, Hazard Communication\, Hazardous Materials\, Confined Spaces\, and Blood-borne Pathogens. \nOSHA FOR GENERAL INDUSTRY CLASS AGENDA \nDAY ONE\n8:00 – 9:00 AM -- INTRODUCTION TO OSHA (INCLUDES CITATIONS AND INSPECTIONS)\n9:00 – 10:30 AM --WALKING AND WORKING SURFACES\n10:30 - 10:45 AM BREAK\n10:45 – 12:15 PM-- HAZARD COMMUNICATION\n12:15 – 1:15 PM LUNCH\n1:15 – 2:45 PM-- PERSONAL PROTECTION EQUIPMENT\n2:45 – 4:15 PM-- MATERIALS HANDLING\n4:15 – 5:00 PM--GENERAL DISCUSSION – ADJOURN\n\nDAY TWO\n8:00 – 9:30 AM-- FALL PREVENTION\n9:30 – 11:00 AM-- BLOODBORNE PATHOGENS\n11:00 – 11:15 AM BREAK\n11:15 – 12:45 PM-- EXIT ROUTES\, EMERGENCY ACTION PLANS\nFIRE PREVENTION PLANS AND FIRE PROTECTION\n12:45-1:45 LUNCH\n1:45 – 2:15 PM-- SAFETY AND HEALTH PROGRAMS\n2:15 – 3:45 PM-- ELECTRICAL\n3:45 – 5:00 PM-- QUESTIONS AND ADJOURN\n\nSTUDENTS RECEIVE A 10-HOUR GENERAL INDUSTRY COMPLETION CARD FROM OSHA\nCourse Details \n\n2 day course; 14 hours\, not including exam time\, lunch and breaks\nExam fee: $65.00 payable to the IICRC and collected by the instructor prior to the exam\nInstructor: Ron Valega\n\n\nCan be taken as a COMBO with FSRT class starting Thursday\, May 2nd for just $620.00\, save $54.00 on tuition! Pick the Combo Ticket today!
URL:https://schapersfloodhouse.com/class/health-and-safety-technician-2/
LOCATION:Schaper’s Flood House\, 1550 Calcon Hook Rd\, Sharon Hill\, PA\, 19079\, United States
CATEGORIES:Health and Safety Technician,HST/FSRT COMBO,IICRC Training
ATTACH;FMTTYPE=image/png:https://schapersfloodhouse.com/wp-content/uploads/iicrc_logo.png
ORGANIZER;CN="Schaper's Supply":MAILTO:dan@schaperssupply.com
GEO:39.89205;-75.26543
X-APPLE-STRUCTURED-LOCATION;VALUE=URI;X-ADDRESS=Schaper’s Flood House 1550 Calcon Hook Rd Sharon Hill PA 19079 United States;X-APPLE-RADIUS=500;X-TITLE=1550 Calcon Hook Rd:geo:-75.26543,39.89205
END:VEVENT
END:VCALENDAR