BEGIN:VCALENDAR
VERSION:2.0
PRODID:-//Schaper&#039;s Flood House - ECPv6.15.20//NONSGML v1.0//EN
CALSCALE:GREGORIAN
METHOD:PUBLISH
X-WR-CALNAME:Schaper&#039;s Flood House
X-ORIGINAL-URL:https://schapersfloodhouse.com
X-WR-CALDESC:Events for Schaper&#039;s Flood House
REFRESH-INTERVAL;VALUE=DURATION:PT1H
X-Robots-Tag:noindex
X-PUBLISHED-TTL:PT1H
BEGIN:VTIMEZONE
TZID:America/New_York
BEGIN:DAYLIGHT
TZOFFSETFROM:-0500
TZOFFSETTO:-0400
TZNAME:EDT
DTSTART:20200308T070000
END:DAYLIGHT
BEGIN:STANDARD
TZOFFSETFROM:-0400
TZOFFSETTO:-0500
TZNAME:EST
DTSTART:20201101T060000
END:STANDARD
BEGIN:DAYLIGHT
TZOFFSETFROM:-0500
TZOFFSETTO:-0400
TZNAME:EDT
DTSTART:20210314T070000
END:DAYLIGHT
BEGIN:STANDARD
TZOFFSETFROM:-0400
TZOFFSETTO:-0500
TZNAME:EST
DTSTART:20211107T060000
END:STANDARD
BEGIN:DAYLIGHT
TZOFFSETFROM:-0500
TZOFFSETTO:-0400
TZNAME:EDT
DTSTART:20220313T070000
END:DAYLIGHT
BEGIN:STANDARD
TZOFFSETFROM:-0400
TZOFFSETTO:-0500
TZNAME:EST
DTSTART:20221106T060000
END:STANDARD
END:VTIMEZONE
BEGIN:VEVENT
DTSTART;TZID=America/New_York:20210413T080000
DTEND;TZID=America/New_York:20210416T170000
DTSTAMP:20260420T024349
CREATED:20201217T204837Z
LAST-MODIFIED:20201217T204837Z
UID:10000400-1618300800-1618592400@schapersfloodhouse.com
SUMMARY:Applied Microbial Remediation Technician
DESCRIPTION:Prerequisite–The IICRC Water Restoration Tech Training must be completed prior to attending the AMRT training. \n**PLEASE BRING YOUR FULL FACE RESPIRATORS TO TRAINING FOR THIS CLASS \n** IF ATTENDEES BRING RESPIRATORS (OR PURCHASE AT TRAINING CLASS) AND THEIR MEDICAL EVALUATIONS\, THE INSTRUCTOR WILL PERFORM A PROPER FIT TESTING AND WILL PROVIDE THE REQUIRED LAMINATED CERTIFICATION CARD. OSHA REQUIRES A YEARLY FIT TESTING AND MEDICAL EVALUATION IS REQUIRED YEARLY. \nOverview \nIICRC Certified & Approved Applied Microbial Remediation Technician course covers mold and sewage remediation techniques to individuals engaged in property management\, property restoration\, IEQ investigations or other related professions. Emphasis will be placed on teaching mold and sewage remediation techniques to individuals who will perform these procedures in the field. Course graduates will be adequately equipped to perform remediation services\, while protecting the health and safety of workers and occupants. \nKey Topics \n\n Introduction to Mold and HVAC\n Standards and Guidelines\n Microbial Effects and Safety\n On-Site Assessment\n Detection Equipment and Sampling\n Containment Planning and Strategies\n Remediation Equipment\n Cleaning Protocols\n Decontamination and Cleaning\n Special Circumstances\n Respiratory Protection\n Job Safety Analysis\n Hands on Demonstration\n\nSpecial Points of Instruction \nIn the Applied Microbial Remediation Technician Course you will learn about the principles\, methods\, procedures and tools for structural and content remediation. The course addresses guidelines and industry standards\, containment types and set-ups\, pressure differentials\, demolition and cleaning procedures\, microbiology\, personal protection equipment and sampling methods. It provides the training to conduct remediation projects includes a hands-on section and concludes with the exam to receive IICRC™ certificate. \nCourse Details \n\n4 day course; 28 hours\, not including exam time\, lunch and breaks\nExam fee: $150.00 payable to the IICRC and collected by instructor prior to exam\nInstructor: Richard Driscoll
URL:https://schapersfloodhouse.com/class/applied-microbial-remediation-technician-12/
LOCATION:Schaper’s Flood House\, 1550 Calcon Hook Rd\, Sharon Hill\, PA\, 19079\, United States
CATEGORIES:Applied Microbial Remediation Technician,IICRC Training
ATTACH;FMTTYPE=image/png:https://schapersfloodhouse.com/wp-content/uploads/iicrc_logo.png
ORGANIZER;CN="Schaper's Supply":MAILTO:dan@schaperssupply.com
GEO:39.89205;-75.26543
X-APPLE-STRUCTURED-LOCATION;VALUE=URI;X-ADDRESS=Schaper’s Flood House 1550 Calcon Hook Rd Sharon Hill PA 19079 United States;X-APPLE-RADIUS=500;X-TITLE=1550 Calcon Hook Rd:geo:-75.26543,39.89205
END:VEVENT
END:VCALENDAR