BEGIN:VCALENDAR
VERSION:2.0
PRODID:-//Schaper&#039;s Flood House - ECPv6.15.20//NONSGML v1.0//EN
CALSCALE:GREGORIAN
METHOD:PUBLISH
X-WR-CALNAME:Schaper&#039;s Flood House
X-ORIGINAL-URL:https://schapersfloodhouse.com
X-WR-CALDESC:Events for Schaper&#039;s Flood House
REFRESH-INTERVAL;VALUE=DURATION:PT1H
X-Robots-Tag:noindex
X-PUBLISHED-TTL:PT1H
BEGIN:VTIMEZONE
TZID:America/New_York
BEGIN:DAYLIGHT
TZOFFSETFROM:-0500
TZOFFSETTO:-0400
TZNAME:EDT
DTSTART:20200308T070000
END:DAYLIGHT
BEGIN:STANDARD
TZOFFSETFROM:-0400
TZOFFSETTO:-0500
TZNAME:EST
DTSTART:20201101T060000
END:STANDARD
BEGIN:DAYLIGHT
TZOFFSETFROM:-0500
TZOFFSETTO:-0400
TZNAME:EDT
DTSTART:20210314T070000
END:DAYLIGHT
BEGIN:STANDARD
TZOFFSETFROM:-0400
TZOFFSETTO:-0500
TZNAME:EST
DTSTART:20211107T060000
END:STANDARD
BEGIN:DAYLIGHT
TZOFFSETFROM:-0500
TZOFFSETTO:-0400
TZNAME:EDT
DTSTART:20220313T070000
END:DAYLIGHT
BEGIN:STANDARD
TZOFFSETFROM:-0400
TZOFFSETTO:-0500
TZNAME:EST
DTSTART:20221106T060000
END:STANDARD
END:VTIMEZONE
BEGIN:VEVENT
DTSTART;TZID=America/New_York:20210202T080000
DTEND;TZID=America/New_York:20210204T170000
DTSTAMP:20260420T024349
CREATED:20201217T191731Z
LAST-MODIFIED:20210108T191024Z
UID:10000396-1612252800-1612458000@schapersfloodhouse.com
SUMMARY:Xactimate Estimating Online (CES-280)
DESCRIPTION:Course Overview\nLearn\, update\, or refresh on Xactimate from your office or home in this interactive online class! Efficiently set up\, dimension\, scope\, and deliver professional estimates using Xactimate. This hands-on course brings new users quickly up to speed and serves as a complete refresher/skill sharpener for experienced users. Prepare for Level 1 & Level 2 User Certifications.\nIICRC Certified Technicians receive up to 14 CECs (hours). \nCourse Environment\nThis is a three day instructor led  online course administered by Sean Burgess\, an Xactimate Certified Trainer. \nDay 1 focuses on Level 1 (Fundamentals) topics. Days 2 & 3 focus on Level 2 (Proficiency) topics. While our main focus is inside the structure\, roof diagramming is\ncovered\, based on attendee interest. \nCourse includes instructional presentation followed by applied practice geared to ensure\nstudents learn best practices. Instruction method is designed to build confidence in the\nknowledge being shared in an interactive online learning environment by progressively\nbuilding scope complexity. This course is conducted using Xactimate X1 Desktop.\nAttendees may use Xactimate X1 or Xactimate 28 Desktop or Xactimate Online. \nRequired: Internet Connection and access to Xactimate during class. Attendees will\nuse their computer microphone and speakers or headset with microphone (optional). A\nsecond screen or monitor is helpful. An external mouse is recommended. \nSkills and Objectives\nStudents of this program will learn how to: \n\nUse the 4 step estimating process to quickly create a project\, review your estimate\, and export.\nUse construction concepts to build interior diagrams using sketch. (Roof and Exterior diagramming are covered based on student interest)\nEasily find line-items related to your current scope of repairs.\nModify material pricing for bid\, miscellaneous\, and material analysis line-items.\nUnderstanding Labor Minimums and How they are applied.\nAuto-sizing your scope using variables & sub-variables.\nIncreasing your efficiency through effective use of keyboard shortcuts.\nImporting and organizing images to provide additional clarity and detail.\nDelivering estimate reports in formats best suited to your clients (both internal and external).\nStaying up-to-date with new Xactimate price list line-items! and more!\n\nInstructor: Sean Burgess \nSean is an Xactimate Certified Trainer (XCT) with extensive experience in both the claims adjusting and restoration service provider fields. With more than a decade of adjusting experience from both the field and as a trainer\, Sean understands the intricacies of the insurance market. Balanced with real world experience as an estimator in the restoration industry\, his perspective is highly unique and invaluable. He has been commended on several occasions for his command of the technical aspects of effective project estimating\, however is also regarded as a highly effective trainer\, with a gift for translating what he teaches into practical\, real world application.
URL:https://schapersfloodhouse.com/class/xactimate-estimating-online-ces-280/
LOCATION:Online Learning\, United States
CATEGORIES:IICRC Training,Xactimate Estimating
ATTACH;FMTTYPE=image/png:https://schapersfloodhouse.com/wp-content/uploads/iicrc_logo.png
ORGANIZER;CN="Schaper's Supply":MAILTO:dan@schaperssupply.com
GEO:37.09024;-95.712891
END:VEVENT
END:VCALENDAR