BEGIN:VCALENDAR
VERSION:2.0
PRODID:-//Schaper&#039;s Flood House - ECPv6.15.20//NONSGML v1.0//EN
CALSCALE:GREGORIAN
METHOD:PUBLISH
X-WR-CALNAME:Schaper&#039;s Flood House
X-ORIGINAL-URL:https://schapersfloodhouse.com
X-WR-CALDESC:Events for Schaper&#039;s Flood House
REFRESH-INTERVAL;VALUE=DURATION:PT1H
X-Robots-Tag:noindex
X-PUBLISHED-TTL:PT1H
BEGIN:VTIMEZONE
TZID:America/New_York
BEGIN:DAYLIGHT
TZOFFSETFROM:-0500
TZOFFSETTO:-0400
TZNAME:EDT
DTSTART:20190310T070000
END:DAYLIGHT
BEGIN:STANDARD
TZOFFSETFROM:-0400
TZOFFSETTO:-0500
TZNAME:EST
DTSTART:20191103T060000
END:STANDARD
BEGIN:DAYLIGHT
TZOFFSETFROM:-0500
TZOFFSETTO:-0400
TZNAME:EDT
DTSTART:20200308T070000
END:DAYLIGHT
BEGIN:STANDARD
TZOFFSETFROM:-0400
TZOFFSETTO:-0500
TZNAME:EST
DTSTART:20201101T060000
END:STANDARD
BEGIN:DAYLIGHT
TZOFFSETFROM:-0500
TZOFFSETTO:-0400
TZNAME:EDT
DTSTART:20210314T070000
END:DAYLIGHT
BEGIN:STANDARD
TZOFFSETFROM:-0400
TZOFFSETTO:-0500
TZNAME:EST
DTSTART:20211107T060000
END:STANDARD
END:VTIMEZONE
BEGIN:VEVENT
DTSTART;TZID=America/New_York:20201001T080000
DTEND;TZID=America/New_York:20201002T170000
DTSTAMP:20260420T080306
CREATED:20191030T182903Z
LAST-MODIFIED:20200902T160942Z
UID:10000370-1601539200-1601658000@schapersfloodhouse.com
SUMMARY:Carpet Repair and Re-installation Technician- Online
DESCRIPTION:Overview \nThe Carpet Repair and Re-installation Technician course teaches techniques and safety issues related to carpet repair and re-installation\, carpet construction\, inspection process prior to cleaning\, tools of the trade\, floor preparation\, adhesives\, carpet cushion installation\, tackless strip and moldings\, seaming\, and proper stretching. This class also teaches various repairs that the carpet cleaner/restorer may come up against while dealing with an installed textile. This knowledge will enable the technician to recognize and avoid installation problems that may arise while performing carpet cleaning as well as how to correct many issues encountered.  Pre-requisite IICRC Certification in CCT or CCMT required\, can take as a combo with CCT April 14-15. \nDon’t forget the RRT class is a requirement for the Master Textile Cleaner Designation. Master Textile Cleaner is the highest educational designation in the industry\, and you are listed on the IICRC Global Locator expanding your visibility to customers. \nKey Topics \n\nCarpet Construction\nMajor Re-Installation Tools\nCarpet Installation Guideline\nCRI 104/105 Industry Standards\nRe-Installation Procedures\nIn-Depth Repair Techniques\n\nSpecial Points of Instruction \nCarpet Repair Techniques- \n\nRe-Installation Techniques\nSeam Repairs\nRepairing Carpet Delamination\nPile Grafting On Cut & Loop Pile\nRemoving Wrinkles and Stretching Carpet\nBonded Insert from the Top\n\nCourse Details \n\n2 day course; 16 hours\, not including lunch and breaks\, exam time is included\nInstructor: John Carter\n\nCan be taken with Carpet Cleaning Technician class starting September 29\, 2020 for just $608.00\, save $50.00 on tuition!  Sign up under Carpet Cleaning September 29\, 2020 \nNOTE: This class will be held on Eastern Standard Time \nTo participate in our live-streamed classes\, please take note of the following important information and requirements: \n\nYou must have a computer with video and audio capabilities.\nYou must have access to a strong\, stable internet connection.*\nYou must fill out the IICRC Candidate Agreement form and pay for your exam as soon as possible\, but in any event no later than 4 days prior to the class.\nWhen paying your exam fees\, you will be asked to upload a piece of photo ID for face recognition during the exam.\nWe ask that you log into the class at least 30 minutes prior to the start time to ensure your technology is working and to be present for attendance and policy review.\n\n*Schaper’s Supply is not responsible for ensuring your internet connectivity or for any problems accessing a live-streamed class due to connectivity problems.  No refunds will be issued for any reason including connectivity problems. You can test your system capabilities in advance by visiting zoom.us/test. \nReview and confirmation of the above requirements (including all system requirements) is the responsibility of the student registering for the online course.   \nAll registrations for online classes are final.  Payment must be made at the time of registration and no refunds will be issued for online classes once a registration is completed.
URL:https://schapersfloodhouse.com/class/carpet-repair-and-re-installation-technician/
LOCATION:Online Learning\, United States
CATEGORIES:Carpet Repair & Reinstallation
ATTACH;FMTTYPE=image/png:https://schapersfloodhouse.com/wp-content/uploads/iicrc_logo.png
ORGANIZER;CN="Schaper's Supply":MAILTO:dan@schaperssupply.com
GEO:37.09024;-95.712891
END:VEVENT
END:VCALENDAR